BEGIN:VCALENDAR
VERSION:2.0
PRODID:-//All About Ombersley &amp; Doverdale - ECPv6.15.20//NONSGML v1.0//EN
CALSCALE:GREGORIAN
METHOD:PUBLISH
X-WR-CALNAME:All About Ombersley &amp; Doverdale
X-ORIGINAL-URL:https://www.allaboutombersley.com
X-WR-CALDESC:Events for All About Ombersley &amp; Doverdale
REFRESH-INTERVAL;VALUE=DURATION:PT1H
X-Robots-Tag:noindex
X-PUBLISHED-TTL:PT1H
BEGIN:VTIMEZONE
TZID:Europe/London
BEGIN:DAYLIGHT
TZOFFSETFROM:+0000
TZOFFSETTO:+0100
TZNAME:BST
DTSTART:20250330T010000
END:DAYLIGHT
BEGIN:STANDARD
TZOFFSETFROM:+0100
TZOFFSETTO:+0000
TZNAME:GMT
DTSTART:20251026T010000
END:STANDARD
BEGIN:DAYLIGHT
TZOFFSETFROM:+0000
TZOFFSETTO:+0100
TZNAME:BST
DTSTART:20260329T010000
END:DAYLIGHT
BEGIN:STANDARD
TZOFFSETFROM:+0100
TZOFFSETTO:+0000
TZNAME:GMT
DTSTART:20261025T010000
END:STANDARD
BEGIN:DAYLIGHT
TZOFFSETFROM:+0000
TZOFFSETTO:+0100
TZNAME:BST
DTSTART:20270328T010000
END:DAYLIGHT
BEGIN:STANDARD
TZOFFSETFROM:+0100
TZOFFSETTO:+0000
TZNAME:GMT
DTSTART:20271031T010000
END:STANDARD
END:VTIMEZONE
BEGIN:VEVENT
DTSTART;TZID=Europe/London:20260202T093000
DTEND;TZID=Europe/London:20260202T103000
DTSTAMP:20260422T112058
CREATED:20260104T141141Z
LAST-MODIFIED:20260202T212524Z
UID:10008378-1770024600-1770028200@www.allaboutombersley.com
SUMMARY:Zumba
DESCRIPTION:
URL:https://www.allaboutombersley.com/whatson/zumba-231
LOCATION:Ombersley Memorial Hall\, Ombersley Memorial Hall\, Sandys Road\, Ombersley\, WR9 0DY
CATEGORIES:Public Events
ORGANIZER;CN="Ombersley Memorial Hall":MAILTO:bookings@ombersleymemorialhall.co.uk
END:VEVENT
BEGIN:VEVENT
DTSTART;TZID=Europe/London:20260201T100000
DTEND;TZID=Europe/London:20260201T170000
DTSTAMP:20260422T112058
CREATED:20251103T165833Z
LAST-MODIFIED:20260201T211006Z
UID:10008169-1769940000-1769965200@www.allaboutombersley.com
SUMMARY:WCBA
DESCRIPTION:
URL:https://www.allaboutombersley.com/whatson/wcba-30
LOCATION:Ombersley Memorial Hall\, Ombersley Memorial Hall\, Sandys Road\, Ombersley\, WR9 0DY
CATEGORIES:Public Events
ORGANIZER;CN="Ombersley Memorial Hall":MAILTO:bookings@ombersleymemorialhall.co.uk
END:VEVENT
BEGIN:VEVENT
DTSTART;TZID=Europe/London:20260201T090000
DTEND;TZID=Europe/London:20260201T100000
DTSTAMP:20260422T112058
CREATED:20260130T204007Z
LAST-MODIFIED:20260201T211005Z
UID:10008595-1769936400-1769940000@www.allaboutombersley.com
SUMMARY:Hall Viewing
DESCRIPTION:
URL:https://www.allaboutombersley.com/whatson/hall-viewing-67
LOCATION:Ombersley Memorial Hall\, Ombersley Memorial Hall\, Sandys Road\, Ombersley\, WR9 0DY
CATEGORIES:Viewings
ORGANIZER;CN="Ombersley Memorial Hall":MAILTO:bookings@ombersleymemorialhall.co.uk
END:VEVENT
BEGIN:VEVENT
DTSTART;TZID=Europe/London:20260131T130000
DTEND;TZID=Europe/London:20260131T170000
DTSTAMP:20260422T112058
CREATED:20251120T195711Z
LAST-MODIFIED:20260131T205505Z
UID:10008218-1769864400-1769878800@www.allaboutombersley.com
SUMMARY:Girl Guiding Fund Raiser
DESCRIPTION:
URL:https://www.allaboutombersley.com/whatson/girl-guiding-fund-raiser
LOCATION:Ombersley Memorial Hall\, Ombersley Memorial Hall\, Sandys Road\, Ombersley\, WR9 0DY
CATEGORIES:Public Events
ORGANIZER;CN="Ombersley Memorial Hall":MAILTO:bookings@ombersleymemorialhall.co.uk
END:VEVENT
BEGIN:VEVENT
DTSTART;TZID=Europe/London:20260130T100000
DTEND;TZID=Europe/London:20260130T170000
DTSTAMP:20260422T112058
CREATED:20251101T164344Z
LAST-MODIFIED:20260130T204006Z
UID:10008166-1769767200-1769792400@www.allaboutombersley.com
SUMMARY:Friday Quilters
DESCRIPTION:
URL:https://www.allaboutombersley.com/whatson/friday-quilters-100
LOCATION:Ombersley Memorial Hall\, Ombersley Memorial Hall\, Sandys Road\, Ombersley\, WR9 0DY
CATEGORIES:Public Events
ORGANIZER;CN="Jane Fowler":MAILTO:Jfowler954@btinternet.com
END:VEVENT
BEGIN:VEVENT
DTSTART;TZID=Europe/London:20260129T190000
DTEND;TZID=Europe/London:20260129T210000
DTSTAMP:20260422T112058
CREATED:20260109T152627Z
LAST-MODIFIED:20260129T202504Z
UID:10008481-1769713200-1769720400@www.allaboutombersley.com
SUMMARY:Murder Mystery Rehearsal
DESCRIPTION:
URL:https://www.allaboutombersley.com/whatson/murder-mystery-rehearsal-4
LOCATION:Ombersley Memorial Hall\, Ombersley Memorial Hall\, Sandys Road\, Ombersley\, WR9 0DY
CATEGORIES:Own Hall Events
ORGANIZER;CN="Ombersley Memorial Hall":MAILTO:bookings@ombersleymemorialhall.co.uk
END:VEVENT
BEGIN:VEVENT
DTSTART;TZID=Europe/London:20260129T090000
DTEND;TZID=Europe/London:20260129T130000
DTSTAMP:20260422T112058
CREATED:20260104T141139Z
LAST-MODIFIED:20260129T202504Z
UID:10008377-1769677200-1769691600@www.allaboutombersley.com
SUMMARY:Pilates
DESCRIPTION:
URL:https://www.allaboutombersley.com/whatson/pilates-675
LOCATION:Ombersley Memorial Hall\, Ombersley Memorial Hall\, Sandys Road\, Ombersley\, WR9 0DY
CATEGORIES:Public Events
ORGANIZER;CN="Ombersley Memorial Hall":MAILTO:bookings@ombersleymemorialhall.co.uk
END:VEVENT
BEGIN:VEVENT
DTSTART;TZID=Europe/London:20260128T203000
DTEND;TZID=Europe/London:20260128T220000
DTSTAMP:20260422T112058
CREATED:20260106T144126Z
LAST-MODIFIED:20260108T151113Z
UID:10008455-1769632200-1769637600@www.allaboutombersley.com
SUMMARY:Murder Mystery Rehearsal
DESCRIPTION:
URL:https://www.allaboutombersley.com/whatson/murder-mystery-rehearsal-2
LOCATION:Ombersley Memorial Hall\, Ombersley Memorial Hall\, Sandys Road\, Ombersley\, WR9 0DY
CATEGORIES:Own Hall Events
ORGANIZER;CN="Ombersley Memorial Hall":MAILTO:bookings@ombersleymemorialhall.co.uk
END:VEVENT
BEGIN:VEVENT
DTSTART;TZID=Europe/London:20260128T190000
DTEND;TZID=Europe/London:20260128T200000
DTSTAMP:20260422T112058
CREATED:20260116T171104Z
LAST-MODIFIED:20260128T201007Z
UID:10008515-1769626800-1769630400@www.allaboutombersley.com
SUMMARY:Dance Class
DESCRIPTION:
URL:https://www.allaboutombersley.com/whatson/dance-class-25
LOCATION:Ombersley Memorial Hall\, Ombersley Memorial Hall\, Sandys Road\, Ombersley\, WR9 0DY
CATEGORIES:Public Events
ORGANIZER;CN="Lois Press":MAILTO:Danceschool@entw9danceacademy.co.uk
END:VEVENT
BEGIN:VEVENT
DTSTART;TZID=Europe/London:20260128T180000
DTEND;TZID=Europe/London:20260128T200000
DTSTAMP:20260422T112058
CREATED:20251218T111055Z
LAST-MODIFIED:20260103T141037Z
UID:10008296-1769623200-1769630400@www.allaboutombersley.com
SUMMARY:Smokey Dough Pizza Van in car park
DESCRIPTION:
URL:https://www.allaboutombersley.com/whatson/smokey-dough-pizza-van-in-car-park-4
LOCATION:Ombersley Memorial Hall\, Ombersley Memorial Hall\, Sandys Road\, Ombersley\, WR9 0DY
CATEGORIES:Public Events
ORGANIZER;CN="Ombersley Memorial Hall":MAILTO:bookings@ombersleymemorialhall.co.uk
END:VEVENT
BEGIN:VEVENT
DTSTART;TZID=Europe/London:20260128T180000
DTEND;TZID=Europe/London:20260128T190000
DTSTAMP:20260422T112058
CREATED:20260116T171104Z
LAST-MODIFIED:20260128T201006Z
UID:10008514-1769623200-1769626800@www.allaboutombersley.com
SUMMARY:Yoga
DESCRIPTION:
URL:https://www.allaboutombersley.com/whatson/yoga-291
LOCATION:Ombersley Memorial Hall\, Ombersley Memorial Hall\, Sandys Road\, Ombersley\, WR9 0DY
CATEGORIES:Public Events
ORGANIZER;CN="Leah Starkey":MAILTO:leahrebeccayoga@gmail.com
END:VEVENT
BEGIN:VEVENT
DTSTART;TZID=Europe/London:20260128T170000
DTEND;TZID=Europe/London:20260128T200000
DTSTAMP:20260422T112058
CREATED:20251030T162837Z
LAST-MODIFIED:20260128T201006Z
UID:10008162-1769619600-1769630400@www.allaboutombersley.com
SUMMARY:Smokey Dough Pizza in car park
DESCRIPTION:
URL:https://www.allaboutombersley.com/whatson/smokey-dough-pizza-in-car-park-75
LOCATION:Ombersley Memorial Hall\, Ombersley Memorial Hall\, Sandys Road\, Ombersley\, WR9 0DY
CATEGORIES:Public Events
ORGANIZER;CN="Ombersley Memorial Hall":MAILTO:bookings@ombersleymemorialhall.co.uk
END:VEVENT
BEGIN:VEVENT
DTSTART;TZID=Europe/London:20260128T100000
DTEND;TZID=Europe/London:20260128T120000
DTSTAMP:20260422T112058
CREATED:20251030T162837Z
LAST-MODIFIED:20260128T201005Z
UID:10008161-1769594400-1769601600@www.allaboutombersley.com
SUMMARY:JAG
DESCRIPTION:
URL:https://www.allaboutombersley.com/whatson/jag-4
LOCATION:Ombersley Memorial Hall\, Ombersley Memorial Hall\, Sandys Road\, Ombersley\, WR9 0DY
CATEGORIES:Public Events
ORGANIZER;CN="Ombersley Memorial Hall":MAILTO:bookings@ombersleymemorialhall.co.uk
END:VEVENT
BEGIN:VEVENT
DTSTART;TZID=Europe/London:20260128T100000
DTEND;TZID=Europe/London:20260128T110000
DTSTAMP:20260422T112058
CREATED:20251030T162837Z
LAST-MODIFIED:20260128T201005Z
UID:10008160-1769594400-1769598000@www.allaboutombersley.com
SUMMARY:Sweaty Mama
DESCRIPTION:
URL:https://www.allaboutombersley.com/whatson/sweaty-mama-227
LOCATION:Ombersley Memorial Hall\, Ombersley Memorial Hall\, Sandys Road\, Ombersley\, WR9 0DY
CATEGORIES:Public Events
ORGANIZER;CN="Rachel Aslam":MAILTO:Rachelaslam@sweatymama.com
END:VEVENT
BEGIN:VEVENT
DTSTART;TZID=Europe/London:20260128T070000
DTEND;TZID=Europe/London:20260128T200000
DTSTAMP:20260422T112058
CREATED:20260106T144113Z
LAST-MODIFIED:20260128T201005Z
UID:10008454-1769583600-1769630400@www.allaboutombersley.com
SUMMARY:Dance Class
DESCRIPTION:
URL:https://www.allaboutombersley.com/whatson/dance-class-13
LOCATION:Ombersley Memorial Hall\, Ombersley Memorial Hall\, Sandys Road\, Ombersley\, WR9 0DY
CATEGORIES:Public Events
ORGANIZER;CN="Ombersley Memorial Hall":MAILTO:bookings@ombersleymemorialhall.co.uk
END:VEVENT
BEGIN:VEVENT
DTSTART;TZID=Europe/London:20260127T190000
DTEND;TZID=Europe/London:20260127T220000
DTSTAMP:20260422T112058
CREATED:20260104T141124Z
LAST-MODIFIED:20260127T195501Z
UID:10008376-1769540400-1769551200@www.allaboutombersley.com
SUMMARY:Voices Unlimited
DESCRIPTION:
URL:https://www.allaboutombersley.com/whatson/voices-unlimited-202
LOCATION:Ombersley Memorial Hall\, Ombersley Memorial Hall\, Sandys Road\, Ombersley\, WR9 0DY
CATEGORIES:Public Events
ORGANIZER;CN="Ombersley Memorial Hall":MAILTO:bookings@ombersleymemorialhall.co.uk
END:VEVENT
BEGIN:VEVENT
DTSTART;TZID=Europe/London:20260127T120000
DTEND;TZID=Europe/London:20260127T140000
DTSTAMP:20260422T112058
CREATED:20260106T144113Z
LAST-MODIFIED:20260127T195501Z
UID:10008453-1769515200-1769522400@www.allaboutombersley.com
SUMMARY:Murder Mystery Meeting
DESCRIPTION:
URL:https://www.allaboutombersley.com/whatson/murder-mystery-meeting-3
LOCATION:Ombersley Memorial Hall\, Ombersley Memorial Hall\, Sandys Road\, Ombersley\, WR9 0DY
CATEGORIES:Own Hall Events
ORGANIZER;CN="Ombersley Memorial Hall":MAILTO:bookings@ombersleymemorialhall.co.uk
END:VEVENT
BEGIN:VEVENT
DTSTART;TZID=Europe/London:20260127T090000
DTEND;TZID=Europe/London:20260127T120000
DTSTAMP:20260422T112058
CREATED:20260104T141124Z
LAST-MODIFIED:20260127T195500Z
UID:10008375-1769504400-1769515200@www.allaboutombersley.com
SUMMARY:Pilates
DESCRIPTION:
URL:https://www.allaboutombersley.com/whatson/pilates-674
LOCATION:Ombersley Memorial Hall\, Ombersley Memorial Hall\, Sandys Road\, Ombersley\, WR9 0DY
CATEGORIES:Public Events
ORGANIZER;CN="Ombersley Memorial Hall":MAILTO:bookings@ombersleymemorialhall.co.uk
END:VEVENT
BEGIN:VEVENT
DTSTART;TZID=Europe/London:20260126T200000
DTEND;TZID=Europe/London:20260126T210000
DTSTAMP:20260422T112058
CREATED:20251028T161333Z
LAST-MODIFIED:20260126T194008Z
UID:10008155-1769457600-1769461200@www.allaboutombersley.com
SUMMARY:Boot Camp
DESCRIPTION:
URL:https://www.allaboutombersley.com/whatson/boot-camp-234
LOCATION:Ombersley Memorial Hall\, Ombersley Memorial Hall\, Sandys Road\, Ombersley\, WR9 0DY
CATEGORIES:Public Events
ORGANIZER;CN="Ombersley Memorial Hall":MAILTO:bookings@ombersleymemorialhall.co.uk
END:VEVENT
BEGIN:VEVENT
DTSTART;TZID=Europe/London:20260126T180000
DTEND;TZID=Europe/London:20260126T190000
DTSTAMP:20260422T112058
CREATED:20260116T171050Z
LAST-MODIFIED:20260126T194008Z
UID:10008513-1769450400-1769454000@www.allaboutombersley.com
SUMMARY:Dance Class
DESCRIPTION:
URL:https://www.allaboutombersley.com/whatson/dance-class-24
LOCATION:Ombersley Memorial Hall\, Ombersley Memorial Hall\, Sandys Road\, Ombersley\, WR9 0DY
CATEGORIES:Public Events
ORGANIZER;CN="Lois Press":MAILTO:Danceschool@entw9danceacademy.co.uk
END:VEVENT
BEGIN:VEVENT
DTSTART;TZID=Europe/London:20260126T180000
DTEND;TZID=Europe/London:20260126T190000
DTSTAMP:20260422T112058
CREATED:20260104T141123Z
LAST-MODIFIED:20260126T194008Z
UID:10008374-1769450400-1769454000@www.allaboutombersley.com
SUMMARY:Dance Class
DESCRIPTION:
URL:https://www.allaboutombersley.com/whatson/dance-class-2
LOCATION:Ombersley Memorial Hall\, Ombersley Memorial Hall\, Sandys Road\, Ombersley\, WR9 0DY
CATEGORIES:Public Events
ORGANIZER;CN="Ombersley Memorial Hall":MAILTO:bookings@ombersleymemorialhall.co.uk
END:VEVENT
BEGIN:VEVENT
DTSTART;TZID=Europe/London:20260126T180000
DTEND;TZID=Europe/London:20260126T190000
DTSTAMP:20260422T112058
CREATED:20251028T161333Z
LAST-MODIFIED:20251116T185728Z
UID:10008154-1769450400-1769454000@www.allaboutombersley.com
SUMMARY:Yoga
DESCRIPTION:
URL:https://www.allaboutombersley.com/whatson/yoga-287
LOCATION:Ombersley Memorial Hall\, Ombersley Memorial Hall\, Sandys Road\, Ombersley\, WR9 0DY
CATEGORIES:Public Events
ORGANIZER;CN="Ombersley Memorial Hall":MAILTO:bookings@ombersleymemorialhall.co.uk
END:VEVENT
BEGIN:VEVENT
DTSTART;TZID=Europe/London:20260126T133000
DTEND;TZID=Europe/London:20260126T143000
DTSTAMP:20260422T112058
CREATED:20260104T141123Z
LAST-MODIFIED:20260126T194007Z
UID:10008373-1769434200-1769437800@www.allaboutombersley.com
SUMMARY:Pilates
DESCRIPTION:
URL:https://www.allaboutombersley.com/whatson/pilates-673
LOCATION:Ombersley Memorial Hall\, Ombersley Memorial Hall\, Sandys Road\, Ombersley\, WR9 0DY
CATEGORIES:Public Events
ORGANIZER;CN="Ombersley Memorial Hall":MAILTO:bookings@ombersleymemorialhall.co.uk
END:VEVENT
BEGIN:VEVENT
DTSTART;TZID=Europe/London:20260126T113000
DTEND;TZID=Europe/London:20260126T123000
DTSTAMP:20260422T112058
CREATED:20260104T141123Z
LAST-MODIFIED:20260126T194007Z
UID:10008372-1769427000-1769430600@www.allaboutombersley.com
SUMMARY:Over 55s Dance Class
DESCRIPTION:
URL:https://www.allaboutombersley.com/whatson/over-55s-dance-class-176
LOCATION:Ombersley Memorial Hall\, Ombersley Memorial Hall\, Sandys Road\, Ombersley\, WR9 0DY
CATEGORIES:Public Events
ORGANIZER;CN="Ombersley Memorial Hall":MAILTO:bookings@ombersleymemorialhall.co.uk
END:VEVENT
BEGIN:VEVENT
DTSTART;TZID=Europe/London:20260126T093000
DTEND;TZID=Europe/London:20260126T103000
DTSTAMP:20260422T112058
CREATED:20260104T141122Z
LAST-MODIFIED:20260126T194007Z
UID:10008371-1769419800-1769423400@www.allaboutombersley.com
SUMMARY:Zumba
DESCRIPTION:
URL:https://www.allaboutombersley.com/whatson/zumba-230
LOCATION:Ombersley Memorial Hall\, Ombersley Memorial Hall\, Sandys Road\, Ombersley\, WR9 0DY
CATEGORIES:Public Events
ORGANIZER;CN="Ombersley Memorial Hall":MAILTO:bookings@ombersleymemorialhall.co.uk
END:VEVENT
BEGIN:VEVENT
DTSTART;TZID=Europe/London:20260125T113000
DTEND;TZID=Europe/London:20260125T143000
DTSTAMP:20260422T112058
CREATED:20251216T235549Z
LAST-MODIFIED:20260125T192501Z
UID:10008287-1769340600-1769351400@www.allaboutombersley.com
SUMMARY:Davies Party
DESCRIPTION:
URL:https://www.allaboutombersley.com/whatson/davies-party-2
LOCATION:Ombersley Memorial Hall\, Ombersley Memorial Hall\, Sandys Road\, Ombersley\, WR9 0DY
CATEGORIES:Private Events
ORGANIZER;CN="Ombersley Memorial Hall":MAILTO:bookings@ombersleymemorialhall.co.uk
END:VEVENT
BEGIN:VEVENT
DTSTART;TZID=Europe/London:20260124T133000
DTEND;TZID=Europe/London:20260124T173000
DTSTAMP:20260422T112058
CREATED:20251026T154334Z
LAST-MODIFIED:20260124T191009Z
UID:10008153-1769261400-1769275800@www.allaboutombersley.com
SUMMARY:Ingram Party
DESCRIPTION:
URL:https://www.allaboutombersley.com/whatson/ingram-party-2
LOCATION:Ombersley Memorial Hall\, Ombersley Memorial Hall\, Sandys Road\, Ombersley\, WR9 0DY
CATEGORIES:Private Events
ORGANIZER;CN="Ombersley Memorial Hall":MAILTO:bookings@ombersleymemorialhall.co.uk
END:VEVENT
BEGIN:VEVENT
DTSTART;TZID=Europe/London:20260124T110000
DTEND;TZID=Europe/London:20260124T120000
DTSTAMP:20260422T112058
CREATED:20260117T172532Z
LAST-MODIFIED:20260124T191009Z
UID:10008549-1769252400-1769256000@www.allaboutombersley.com
SUMMARY:OMH
DESCRIPTION:
URL:https://www.allaboutombersley.com/whatson/omh
LOCATION:Ombersley Memorial Hall\, Ombersley Memorial Hall\, Sandys Road\, Ombersley\, WR9 0DY
CATEGORIES:Own Hall Events
ORGANIZER;CN="Ombersley Memorial Hall":MAILTO:bookings@ombersleymemorialhall.co.uk
END:VEVENT
BEGIN:VEVENT
DTSTART;TZID=Europe/London:20260123T183000
DTEND;TZID=Europe/London:20260123T220000
DTSTAMP:20260422T112058
CREATED:20251025T152837Z
LAST-MODIFIED:20260123T185502Z
UID:10008150-1769193000-1769205600@www.allaboutombersley.com
SUMMARY:WCBA
DESCRIPTION:
URL:https://www.allaboutombersley.com/whatson/wcba-29
LOCATION:Ombersley Memorial Hall\, Ombersley Memorial Hall\, Sandys Road\, Ombersley\, WR9 0DY
CATEGORIES:Public Events
ORGANIZER;CN="Ombersley Memorial Hall":MAILTO:bookings@ombersleymemorialhall.co.uk
END:VEVENT
BEGIN:VEVENT
DTSTART;TZID=Europe/London:20260123T100000
DTEND;TZID=Europe/London:20260123T170000
DTSTAMP:20260422T112058
CREATED:20251025T152837Z
LAST-MODIFIED:20260123T185502Z
UID:10008149-1769162400-1769187600@www.allaboutombersley.com
SUMMARY:Friday Quilters
DESCRIPTION:
URL:https://www.allaboutombersley.com/whatson/friday-quilters-99
LOCATION:Ombersley Memorial Hall\, Ombersley Memorial Hall\, Sandys Road\, Ombersley\, WR9 0DY
CATEGORIES:Public Events
ORGANIZER;CN="Jane Fowler":MAILTO:Jfowler954@btinternet.com
END:VEVENT
END:VCALENDAR