BEGIN:VCALENDAR
VERSION:2.0
PRODID:-//All About Ombersley &amp; Doverdale - ECPv6.15.20//NONSGML v1.0//EN
CALSCALE:GREGORIAN
METHOD:PUBLISH
X-ORIGINAL-URL:https://www.allaboutombersley.com
X-WR-CALDESC:Events for All About Ombersley &amp; Doverdale
REFRESH-INTERVAL;VALUE=DURATION:PT1H
X-Robots-Tag:noindex
X-PUBLISHED-TTL:PT1H
BEGIN:VTIMEZONE
TZID:Europe/London
BEGIN:DAYLIGHT
TZOFFSETFROM:+0000
TZOFFSETTO:+0100
TZNAME:BST
DTSTART:20250330T010000
END:DAYLIGHT
BEGIN:STANDARD
TZOFFSETFROM:+0100
TZOFFSETTO:+0000
TZNAME:GMT
DTSTART:20251026T010000
END:STANDARD
BEGIN:DAYLIGHT
TZOFFSETFROM:+0000
TZOFFSETTO:+0100
TZNAME:BST
DTSTART:20260329T010000
END:DAYLIGHT
BEGIN:STANDARD
TZOFFSETFROM:+0100
TZOFFSETTO:+0000
TZNAME:GMT
DTSTART:20261025T010000
END:STANDARD
BEGIN:DAYLIGHT
TZOFFSETFROM:+0000
TZOFFSETTO:+0100
TZNAME:BST
DTSTART:20270328T010000
END:DAYLIGHT
BEGIN:STANDARD
TZOFFSETFROM:+0100
TZOFFSETTO:+0000
TZNAME:GMT
DTSTART:20271031T010000
END:STANDARD
END:VTIMEZONE
BEGIN:VEVENT
DTSTART;TZID=Europe/London:20260422T180000
DTEND;TZID=Europe/London:20260422T190000
DTSTAMP:20260422T200308
CREATED:20260122T184543Z
LAST-MODIFIED:20260422T185459Z
UID:10008568-1776880800-1776884400@www.allaboutombersley.com
SUMMARY:Yoga
DESCRIPTION:
URL:https://www.allaboutombersley.com/whatson/yoga-303
LOCATION:Ombersley Memorial Hall\, Ombersley Memorial Hall\, Sandys Road\, Ombersley\, WR9 0DY
CATEGORIES:Public Events
ORGANIZER;CN="Leah Starkey":MAILTO:leahrebeccayoga@gmail.com
END:VEVENT
END:VCALENDAR