BEGIN:VCALENDAR
VERSION:2.0
PRODID:-//All About Ombersley &amp; Doverdale - ECPv6.15.20//NONSGML v1.0//EN
CALSCALE:GREGORIAN
METHOD:PUBLISH
X-ORIGINAL-URL:https://www.allaboutombersley.com
X-WR-CALDESC:Events for All About Ombersley &amp; Doverdale
REFRESH-INTERVAL;VALUE=DURATION:PT1H
X-Robots-Tag:noindex
X-PUBLISHED-TTL:PT1H
BEGIN:VTIMEZONE
TZID:Europe/London
BEGIN:DAYLIGHT
TZOFFSETFROM:+0000
TZOFFSETTO:+0100
TZNAME:BST
DTSTART:20250330T010000
END:DAYLIGHT
BEGIN:STANDARD
TZOFFSETFROM:+0100
TZOFFSETTO:+0000
TZNAME:GMT
DTSTART:20251026T010000
END:STANDARD
BEGIN:DAYLIGHT
TZOFFSETFROM:+0000
TZOFFSETTO:+0100
TZNAME:BST
DTSTART:20260329T010000
END:DAYLIGHT
BEGIN:STANDARD
TZOFFSETFROM:+0100
TZOFFSETTO:+0000
TZNAME:GMT
DTSTART:20261025T010000
END:STANDARD
BEGIN:DAYLIGHT
TZOFFSETFROM:+0000
TZOFFSETTO:+0100
TZNAME:BST
DTSTART:20270328T010000
END:DAYLIGHT
BEGIN:STANDARD
TZOFFSETFROM:+0100
TZOFFSETTO:+0000
TZNAME:GMT
DTSTART:20271031T010000
END:STANDARD
END:VTIMEZONE
BEGIN:VEVENT
DTSTART;TZID=Europe/London:20260411T110000
DTEND;TZID=Europe/London:20260411T163000
DTSTAMP:20260422T062425
CREATED:20260111T160012Z
LAST-MODIFIED:20260411T160959Z
UID:10008488-1775905200-1775925000@www.allaboutombersley.com
SUMMARY:Masters Party
DESCRIPTION:
URL:https://www.allaboutombersley.com/whatson/masters-party
LOCATION:Ombersley Memorial Hall\, Ombersley Memorial Hall\, Sandys Road\, Ombersley\, WR9 0DY
CATEGORIES:Private Events
ORGANIZER;CN="Ombersley Memorial Hall":MAILTO:bookings@ombersleymemorialhall.co.uk
END:VEVENT
BEGIN:VEVENT
DTSTART;TZID=Europe/London:20260411T170000
DTEND;TZID=Europe/London:20260411T230000
DTSTAMP:20260422T062425
CREATED:20260111T160012Z
LAST-MODIFIED:20260411T161000Z
UID:10008489-1775926800-1775948400@www.allaboutombersley.com
SUMMARY:Movie Night
DESCRIPTION:
URL:https://www.allaboutombersley.com/whatson/movie-night-5
LOCATION:Ombersley Memorial Hall\, Ombersley Memorial Hall\, Sandys Road\, Ombersley\, WR9 0DY
CATEGORIES:Own Hall Events
ORGANIZER;CN="Ombersley Memorial Hall":MAILTO:bookings@ombersleymemorialhall.co.uk
END:VEVENT
BEGIN:VEVENT
DTSTART;TZID=Europe/London:20260412T090000
DTEND;TZID=Europe/London:20260412T130000
DTSTAMP:20260422T062425
CREATED:20260203T214403Z
LAST-MODIFIED:20260412T162459Z
UID:10008606-1775984400-1775998800@www.allaboutombersley.com
SUMMARY:MacFarlane Party
DESCRIPTION:
URL:https://www.allaboutombersley.com/whatson/macfarlane-party
LOCATION:Ombersley Memorial Hall\, Ombersley Memorial Hall\, Sandys Road\, Ombersley\, WR9 0DY
CATEGORIES:Private Events
ORGANIZER;CN="Ombersley Memorial Hall":MAILTO:bookings@ombersleymemorialhall.co.uk
END:VEVENT
BEGIN:VEVENT
DTSTART;TZID=Europe/London:20260412T140000
DTEND;TZID=Europe/London:20260412T180000
DTSTAMP:20260422T062425
CREATED:20260220T124312Z
LAST-MODIFIED:20260412T162459Z
UID:10008681-1776002400-1776016800@www.allaboutombersley.com
SUMMARY:Ingram Party
DESCRIPTION:
URL:https://www.allaboutombersley.com/whatson/ingram-party-3
LOCATION:Ombersley Memorial Hall\, Ombersley Memorial Hall\, Sandys Road\, Ombersley\, WR9 0DY
CATEGORIES:Private Events
ORGANIZER;CN="Ombersley Memorial Hall":MAILTO:bookings@ombersleymemorialhall.co.uk
END:VEVENT
BEGIN:VEVENT
DTSTART;TZID=Europe/London:20260413T093000
DTEND;TZID=Europe/London:20260413T103000
DTSTAMP:20260422T062425
CREATED:20260113T163001Z
LAST-MODIFIED:20260413T164005Z
UID:10008492-1776072600-1776076200@www.allaboutombersley.com
SUMMARY:Zumba
DESCRIPTION:
URL:https://www.allaboutombersley.com/whatson/zumba-241
LOCATION:Ombersley Memorial Hall\, Ombersley Memorial Hall\, Sandys Road\, Ombersley\, WR9 0DY
CATEGORIES:Public Events
ORGANIZER;CN="Ombersley Memorial Hall":MAILTO:bookings@ombersleymemorialhall.co.uk
END:VEVENT
BEGIN:VEVENT
DTSTART;TZID=Europe/London:20260413T113000
DTEND;TZID=Europe/London:20260413T123000
DTSTAMP:20260422T062425
CREATED:20260113T163001Z
LAST-MODIFIED:20260413T164006Z
UID:10008493-1776079800-1776083400@www.allaboutombersley.com
SUMMARY:Over 55s Dance Class
DESCRIPTION:
URL:https://www.allaboutombersley.com/whatson/over-55s-dance-class-187
LOCATION:Ombersley Memorial Hall\, Ombersley Memorial Hall\, Sandys Road\, Ombersley\, WR9 0DY
CATEGORIES:Public Events
ORGANIZER;CN="Ombersley Memorial Hall":MAILTO:bookings@ombersleymemorialhall.co.uk
END:VEVENT
BEGIN:VEVENT
DTSTART;TZID=Europe/London:20260413T133000
DTEND;TZID=Europe/London:20260413T143000
DTSTAMP:20260422T062425
CREATED:20260113T163001Z
LAST-MODIFIED:20260413T164006Z
UID:10008494-1776087000-1776090600@www.allaboutombersley.com
SUMMARY:Pilates
DESCRIPTION:
URL:https://www.allaboutombersley.com/whatson/pilates-706
LOCATION:Ombersley Memorial Hall\, Ombersley Memorial Hall\, Sandys Road\, Ombersley\, WR9 0DY
CATEGORIES:Public Events
ORGANIZER;CN="Ombersley Memorial Hall":MAILTO:bookings@ombersleymemorialhall.co.uk
END:VEVENT
BEGIN:VEVENT
DTSTART;TZID=Europe/London:20260413T180000
DTEND;TZID=Europe/London:20260413T190000
DTSTAMP:20260422T062425
CREATED:20260203T214418Z
LAST-MODIFIED:20260413T164007Z
UID:10008607-1776103200-1776106800@www.allaboutombersley.com
SUMMARY:Dance Class
DESCRIPTION:
URL:https://www.allaboutombersley.com/whatson/dance-class-44
LOCATION:Ombersley Memorial Hall\, Ombersley Memorial Hall\, Sandys Road\, Ombersley\, WR9 0DY
CATEGORIES:Public Events
ORGANIZER;CN="Lois Press":MAILTO:Danceschool@entw9danceacademy.co.uk
END:VEVENT
BEGIN:VEVENT
DTSTART;TZID=Europe/London:20260413T200000
DTEND;TZID=Europe/London:20260413T210000
DTSTAMP:20260422T062425
CREATED:20260113T163014Z
LAST-MODIFIED:20260413T164007Z
UID:10008495-1776110400-1776114000@www.allaboutombersley.com
SUMMARY:Boot Camp
DESCRIPTION:
URL:https://www.allaboutombersley.com/whatson/boot-camp-245
LOCATION:Ombersley Memorial Hall\, Ombersley Memorial Hall\, Sandys Road\, Ombersley\, WR9 0DY
CATEGORIES:Public Events
ORGANIZER;CN="Ombersley Memorial Hall":MAILTO:bookings@ombersleymemorialhall.co.uk
END:VEVENT
BEGIN:VEVENT
DTSTART;TZID=Europe/London:20260414T090000
DTEND;TZID=Europe/London:20260414T120000
DTSTAMP:20260422T062425
CREATED:20260114T164521Z
LAST-MODIFIED:20260414T165501Z
UID:10008499-1776157200-1776168000@www.allaboutombersley.com
SUMMARY:Pilates
DESCRIPTION:
URL:https://www.allaboutombersley.com/whatson/pilates-707
LOCATION:Ombersley Memorial Hall\, Ombersley Memorial Hall\, Sandys Road\, Ombersley\, WR9 0DY
CATEGORIES:Public Events
ORGANIZER;CN="Ombersley Memorial Hall":MAILTO:bookings@ombersleymemorialhall.co.uk
END:VEVENT
BEGIN:VEVENT
DTSTART;TZID=Europe/London:20260414T183000
DTEND;TZID=Europe/London:20260414T213000
DTSTAMP:20260422T062425
CREATED:20260203T214418Z
LAST-MODIFIED:20260414T165502Z
UID:10008608-1776191400-1776202200@www.allaboutombersley.com
SUMMARY:CPR and Defibrillator Sessions
DESCRIPTION:
URL:https://www.allaboutombersley.com/whatson/cpr-and-defibrillator-sessions
LOCATION:Ombersley Memorial Hall\, Ombersley Memorial Hall\, Sandys Road\, Ombersley\, WR9 0DY
CATEGORIES:Public Events
ORGANIZER;CN="Ombersley Memorial Hall":MAILTO:bookings@ombersleymemorialhall.co.uk
END:VEVENT
BEGIN:VEVENT
DTSTART;TZID=Europe/London:20260415T100000
DTEND;TZID=Europe/London:20260415T110000
DTSTAMP:20260422T062425
CREATED:20260115T170012Z
LAST-MODIFIED:20260415T171006Z
UID:10008503-1776247200-1776250800@www.allaboutombersley.com
SUMMARY:Fitness Class
DESCRIPTION:
URL:https://www.allaboutombersley.com/whatson/sweaty-mama-238
LOCATION:Ombersley Memorial Hall\, Ombersley Memorial Hall\, Sandys Road\, Ombersley\, WR9 0DY
CATEGORIES:Public Events
ORGANIZER;CN="Rachel Aslam":MAILTO:Rachelaslam@sweatymama.com
END:VEVENT
BEGIN:VEVENT
DTSTART;TZID=Europe/London:20260415T100000
DTEND;TZID=Europe/London:20260415T113000
DTSTAMP:20260422T062425
CREATED:20210817T145046Z
LAST-MODIFIED:20210817T145046Z
UID:10006498-1776247200-1776252600@www.allaboutombersley.com
SUMMARY:Ombersley Social Strollers
DESCRIPTION:Starting Wednesday 1st September we will be running the weekly health walks for anyone who fancies a gentle stroll and chat with refreshments afterwards. We meet just before 10am at the Lych Gate of St Andrews Church in the village and walk as a group for about 45 minutes returning to the church for hot drinks\, biscuits and a chat. All walks are tailored to the abilities of the group and there is always the opportunity for anyone to return to the church early with a leader. We welcome anyone to join us\, just turn up or contact Peter Reynolds on 07855 441804 to learn more
URL:https://www.allaboutombersley.com/whatson/ombersley-social-strollers/2026-04-15
LOCATION:St Andrew’s Church\, Ombersley\, St Andrew's Church\, Main Road\, Ombersley\, Ombersley\, WR9 0EP
ATTACH;FMTTYPE=image/jpeg:https://www.allaboutombersley.com/wp-content/uploads/2021/08/39af4eae-bb27-479b-b9e2-88d2c3752080.jpg
END:VEVENT
BEGIN:VEVENT
DTSTART;TZID=Europe/London:20260415T100000
DTEND;TZID=Europe/London:20260415T120000
DTSTAMP:20260422T062425
CREATED:20260115T170012Z
LAST-MODIFIED:20260415T171006Z
UID:10008504-1776247200-1776254400@www.allaboutombersley.com
SUMMARY:JAG
DESCRIPTION:
URL:https://www.allaboutombersley.com/whatson/jag-13
LOCATION:Ombersley Memorial Hall\, Ombersley Memorial Hall\, Sandys Road\, Ombersley\, WR9 0DY
CATEGORIES:Public Events
ORGANIZER;CN="Ombersley Memorial Hall":MAILTO:bookings@ombersleymemorialhall.co.uk
END:VEVENT
BEGIN:VEVENT
DTSTART;TZID=Europe/London:20260415T130000
DTEND;TZID=Europe/London:20260415T170000
DTSTAMP:20260422T062425
CREATED:20260115T170025Z
LAST-MODIFIED:20260415T171006Z
UID:10008505-1776258000-1776272400@www.allaboutombersley.com
SUMMARY:Bridge
DESCRIPTION:
URL:https://www.allaboutombersley.com/whatson/bridge-72
LOCATION:Ombersley Memorial Hall\, Ombersley Memorial Hall\, Sandys Road\, Ombersley\, WR9 0DY
CATEGORIES:Public Events
ORGANIZER;CN="Ombersley Memorial Hall":MAILTO:bookings@ombersleymemorialhall.co.uk
END:VEVENT
BEGIN:VEVENT
DTSTART;TZID=Europe/London:20260415T170000
DTEND;TZID=Europe/London:20260415T200000
DTSTAMP:20260422T062425
CREATED:20260115T170026Z
LAST-MODIFIED:20260415T171006Z
UID:10008506-1776272400-1776283200@www.allaboutombersley.com
SUMMARY:Smokey Dough Pizza in car park
DESCRIPTION:
URL:https://www.allaboutombersley.com/whatson/smokey-dough-pizza-in-car-park-86
LOCATION:Ombersley Memorial Hall\, Ombersley Memorial Hall\, Sandys Road\, Ombersley\, WR9 0DY
CATEGORIES:Public Events
ORGANIZER;CN="Ombersley Memorial Hall":MAILTO:bookings@ombersleymemorialhall.co.uk
END:VEVENT
BEGIN:VEVENT
DTSTART;TZID=Europe/London:20260415T180000
DTEND;TZID=Europe/London:20260415T190000
DTSTAMP:20260422T062425
CREATED:20260116T171611Z
LAST-MODIFIED:20260415T171006Z
UID:10008545-1776276000-1776279600@www.allaboutombersley.com
SUMMARY:Yoga
DESCRIPTION:
URL:https://www.allaboutombersley.com/whatson/yoga-302
LOCATION:Ombersley Memorial Hall\, Ombersley Memorial Hall\, Sandys Road\, Ombersley\, WR9 0DY
CATEGORIES:Public Events
ORGANIZER;CN="Leah Starkey":MAILTO:leahrebeccayoga@gmail.com
END:VEVENT
BEGIN:VEVENT
DTSTART;TZID=Europe/London:20260415T200000
DTEND;TZID=Europe/London:20260415T220000
DTSTAMP:20260422T062425
CREATED:20210818T125741Z
LAST-MODIFIED:20210818T125741Z
UID:10006202-1776283200-1776290400@www.allaboutombersley.com
SUMMARY:Folk Dancing
DESCRIPTION:Sytchampton Folk Dance Club. New members welcome – no experience necessary. \n£1.50 per session.
URL:https://www.allaboutombersley.com/whatson/folk-dancing/2026-04-15
LOCATION:Sytchampton Village Hall\, Sytchampton Village Hall\, Cow Lane\, Sytchampton\, Ombersley\, DY13 9SY
ATTACH;FMTTYPE=image/jpeg:https://www.allaboutombersley.com/wp-content/uploads/2021/08/Header.jpeg
ORGANIZER;CN="Sytchampton Folk Dance Club":MAILTO:gaynor@mapron21.plus.com
END:VEVENT
BEGIN:VEVENT
DTSTART;TZID=Europe/London:20260416T090000
DTEND;TZID=Europe/London:20260416T130000
DTSTAMP:20260422T062425
CREATED:20260116T171611Z
LAST-MODIFIED:20260416T172507Z
UID:10008546-1776330000-1776344400@www.allaboutombersley.com
SUMMARY:Pilates
DESCRIPTION:
URL:https://www.allaboutombersley.com/whatson/pilates-708
LOCATION:Ombersley Memorial Hall\, Ombersley Memorial Hall\, Sandys Road\, Ombersley\, WR9 0DY
CATEGORIES:Public Events
ORGANIZER;CN="Ombersley Memorial Hall":MAILTO:bookings@ombersleymemorialhall.co.uk
END:VEVENT
BEGIN:VEVENT
DTSTART;TZID=Europe/London:20260416T190000
DTEND;TZID=Europe/London:20260416T220000
DTSTAMP:20260422T062425
CREATED:20260116T171612Z
LAST-MODIFIED:20260416T172508Z
UID:10008547-1776366000-1776376800@www.allaboutombersley.com
SUMMARY:Ombersley Gardening Club
DESCRIPTION:
URL:https://www.allaboutombersley.com/whatson/ombersley-gardening-club-45
LOCATION:Ombersley Memorial Hall\, Ombersley Memorial Hall\, Sandys Road\, Ombersley\, WR9 0DY
CATEGORIES:Public Events
ORGANIZER;CN="Ombersley Memorial Hall":MAILTO:bookings@ombersleymemorialhall.co.uk
END:VEVENT
BEGIN:VEVENT
DTSTART;TZID=Europe/London:20260417T093000
DTEND;TZID=Europe/London:20260417T123000
DTSTAMP:20260422T062425
CREATED:20210817T155753Z
LAST-MODIFIED:20210817T155753Z
UID:10004729-1776418200-1776429000@www.allaboutombersley.com
SUMMARY:Pilates Classes - Various
DESCRIPTION:Stretch 1/2hr class 9.40am \nOver 50’s Pilates 10.10am \nPilates Beginners 11.10am
URL:https://www.allaboutombersley.com/whatson/pilates-classes-various-2/2026-04-17
LOCATION:Sytchampton Village Hall\, Sytchampton Village Hall\, Cow Lane\, Sytchampton\, Ombersley\, DY13 9SY
ATTACH;FMTTYPE=image/png:https://www.allaboutombersley.com/wp-content/uploads/2021/08/logo.png
END:VEVENT
BEGIN:VEVENT
DTSTART;TZID=Europe/London:20260417T100000
DTEND;TZID=Europe/London:20260417T170000
DTSTAMP:20260422T062425
CREATED:20260117T173106Z
LAST-MODIFIED:20260417T174000Z
UID:10008550-1776420000-1776445200@www.allaboutombersley.com
SUMMARY:Friday Quilters
DESCRIPTION:
URL:https://www.allaboutombersley.com/whatson/friday-quilters-113
LOCATION:Ombersley Memorial Hall\, Ombersley Memorial Hall\, Sandys Road\, Ombersley\, WR9 0DY
CATEGORIES:Public Events
ORGANIZER;CN="Jane Fowler":MAILTO:Jfowler954@btinternet.com
END:VEVENT
BEGIN:VEVENT
DTSTART;TZID=Europe/London:20260417T190000
DTEND;TZID=Europe/London:20260417T200000
DTSTAMP:20260422T062425
CREATED:20210818T113040Z
LAST-MODIFIED:20210818T113040Z
UID:10005024-1776452400-1776456000@www.allaboutombersley.com
SUMMARY:Fitness Bootcamp
DESCRIPTION:I’m a Level 2 Qualified Fitness Instructor\, level 3 Qualified Personal Trainer and owner of OPT Fitness. My role as a Fitness Trainer is to help you achieve your fitness goals\, whatever they may be. I like to keep things as simple and effective as possible\, with no fads\, no gimmicks\, just results! \nBased in Worcestershire\, I offer 121 and group personal training as well as fitness classes. I currently PT at 4 different gyms\, covering Worcester\, Droitwich\, Bromsgrove and Kidderminster. I also offer a home gym service if the gym isn’t for you. \nI have a passion for fitness but a bigger passion for helping people achieve their fitness goals. 
URL:https://www.allaboutombersley.com/whatson/fitness-bootcamp/2026-04-17
LOCATION:Sytchampton Village Hall\, Sytchampton Village Hall\, Cow Lane\, Sytchampton\, Ombersley\, DY13 9SY
ATTACH;FMTTYPE=image/webp:https://www.allaboutombersley.com/wp-content/uploads/2021/08/9cd5c0_865a551ce549434393e130e2ec0c45e5_mv2.webp
ORGANIZER;CN="OPT Fitness":MAILTO:optifitness11@gmail.com
END:VEVENT
BEGIN:VEVENT
DTSTART;TZID=Europe/London:20260418T080000
DTEND;TZID=Europe/London:20260418T170000
DTSTAMP:20260422T062425
CREATED:20260118T174547Z
LAST-MODIFIED:20260418T175508Z
UID:10008552-1776499200-1776531600@www.allaboutombersley.com
SUMMARY:Friday Quilters
DESCRIPTION:
URL:https://www.allaboutombersley.com/whatson/friday-quilters-114
LOCATION:Ombersley Memorial Hall\, Ombersley Memorial Hall\, Sandys Road\, Ombersley\, WR9 0DY
CATEGORIES:Public Events
ORGANIZER;CN="Jane Fowler":MAILTO:Jfowler954@btinternet.com
END:VEVENT
BEGIN:VEVENT
DTSTART;TZID=Europe/London:20260418T170000
DTEND;TZID=Europe/London:20260418T233000
DTSTAMP:20260422T062425
CREATED:20251129T214221Z
LAST-MODIFIED:20260317T184239Z
UID:10008244-1776531600-1776555000@www.allaboutombersley.com
SUMMARY:Sytchampton School Quiz Night
DESCRIPTION:
URL:https://www.allaboutombersley.com/whatson/sytchampton-school-quiz-night-3
LOCATION:Ombersley Memorial Hall\, Ombersley Memorial Hall\, Sandys Road\, Ombersley\, WR9 0DY
CATEGORIES:Public Events
ORGANIZER;CN="Ombersley Memorial Hall":MAILTO:bookings@ombersleymemorialhall.co.uk
END:VEVENT
BEGIN:VEVENT
DTSTART;TZID=Europe/London:20260418T193000
DTEND;TZID=Europe/London:20260418T233000
DTSTAMP:20260422T062425
CREATED:20260401T134122Z
LAST-MODIFIED:20260414T165518Z
UID:10008810-1776540600-1776555000@www.allaboutombersley.com
SUMMARY:Sytchampton School Quiz Night
DESCRIPTION:
URL:https://www.allaboutombersley.com/whatson/sytchampton-school-quiz-night-4
LOCATION:Ombersley Memorial Hall\, Ombersley Memorial Hall\, Sandys Road\, Ombersley\, WR9 0DY
CATEGORIES:Public Events
ORGANIZER;CN="Ombersley Memorial Hall":MAILTO:bookings@ombersleymemorialhall.co.uk
END:VEVENT
BEGIN:VEVENT
DTSTART;TZID=Europe/London:20260419T100000
DTEND;TZID=Europe/London:20260419T140000
DTSTAMP:20260422T062425
CREATED:20260224T134321Z
LAST-MODIFIED:20260419T181002Z
UID:10008695-1776592800-1776607200@www.allaboutombersley.com
SUMMARY:Ombersley Walkers. J/R
DESCRIPTION:
URL:https://www.allaboutombersley.com/whatson/ombersley-walkers-j-r-3
LOCATION:Ombersley Memorial Hall\, Ombersley Memorial Hall\, Sandys Road\, Ombersley\, WR9 0DY
CATEGORIES:Public Events
ORGANIZER;CN="Ombersley Memorial Hall":MAILTO:bookings@ombersleymemorialhall.co.uk
END:VEVENT
BEGIN:VEVENT
DTSTART;TZID=Europe/London:20260420T090000
DTEND;TZID=Europe/London:20260420T210000
DTSTAMP:20260422T062425
CREATED:20210817T155554Z
LAST-MODIFIED:20210817T155554Z
UID:10005319-1776675600-1776718800@www.allaboutombersley.com
SUMMARY:Pilates Classes - various
DESCRIPTION:Pilates Beginners 9.15am \nOver 50’s Pilates 10.15am \nOver 50’s Pilates 4.00pm \nIntermediate Pilates 5.00pm \nIntermediate Pilates 6.00pm \nIntermediate Pilates 7.00pm \nIntermediate Pilates 8.00pm
URL:https://www.allaboutombersley.com/whatson/pilates-classes-various/2026-04-20
LOCATION:The Crown & Sandys\, The Crown & Sandys Arms\, Main Road\, Ombersley\, WR9 0EW
ATTACH;FMTTYPE=image/png:https://www.allaboutombersley.com/wp-content/uploads/2021/08/logo.png
END:VEVENT
BEGIN:VEVENT
DTSTART;TZID=Europe/London:20260420T093000
DTEND;TZID=Europe/London:20260420T103000
DTSTAMP:20260422T062425
CREATED:20260120T181542Z
LAST-MODIFIED:20260420T182501Z
UID:10008554-1776677400-1776681000@www.allaboutombersley.com
SUMMARY:Zumba
DESCRIPTION:
URL:https://www.allaboutombersley.com/whatson/zumba-242
LOCATION:Ombersley Memorial Hall\, Ombersley Memorial Hall\, Sandys Road\, Ombersley\, WR9 0DY
CATEGORIES:Public Events
ORGANIZER;CN="Ombersley Memorial Hall":MAILTO:bookings@ombersleymemorialhall.co.uk
END:VEVENT
BEGIN:VEVENT
DTSTART;TZID=Europe/London:20260420T113000
DTEND;TZID=Europe/London:20260420T123000
DTSTAMP:20260422T062425
CREATED:20260120T181542Z
LAST-MODIFIED:20260420T182501Z
UID:10008555-1776684600-1776688200@www.allaboutombersley.com
SUMMARY:Over 55s Dance Class
DESCRIPTION:
URL:https://www.allaboutombersley.com/whatson/over-55s-dance-class-188
LOCATION:Ombersley Memorial Hall\, Ombersley Memorial Hall\, Sandys Road\, Ombersley\, WR9 0DY
CATEGORIES:Public Events
ORGANIZER;CN="Ombersley Memorial Hall":MAILTO:bookings@ombersleymemorialhall.co.uk
END:VEVENT
END:VCALENDAR