BEGIN:VCALENDAR
VERSION:2.0
PRODID:-//All About Ombersley &amp; Doverdale - ECPv6.15.20//NONSGML v1.0//EN
CALSCALE:GREGORIAN
METHOD:PUBLISH
X-ORIGINAL-URL:https://www.allaboutombersley.com
X-WR-CALDESC:Events for All About Ombersley &amp; Doverdale
REFRESH-INTERVAL;VALUE=DURATION:PT1H
X-Robots-Tag:noindex
X-PUBLISHED-TTL:PT1H
BEGIN:VTIMEZONE
TZID:Europe/London
BEGIN:DAYLIGHT
TZOFFSETFROM:+0000
TZOFFSETTO:+0100
TZNAME:BST
DTSTART:20250330T010000
END:DAYLIGHT
BEGIN:STANDARD
TZOFFSETFROM:+0100
TZOFFSETTO:+0000
TZNAME:GMT
DTSTART:20251026T010000
END:STANDARD
BEGIN:DAYLIGHT
TZOFFSETFROM:+0000
TZOFFSETTO:+0100
TZNAME:BST
DTSTART:20260329T010000
END:DAYLIGHT
BEGIN:STANDARD
TZOFFSETFROM:+0100
TZOFFSETTO:+0000
TZNAME:GMT
DTSTART:20261025T010000
END:STANDARD
BEGIN:DAYLIGHT
TZOFFSETFROM:+0000
TZOFFSETTO:+0100
TZNAME:BST
DTSTART:20270328T010000
END:DAYLIGHT
BEGIN:STANDARD
TZOFFSETFROM:+0100
TZOFFSETTO:+0000
TZNAME:GMT
DTSTART:20271031T010000
END:STANDARD
END:VTIMEZONE
BEGIN:VEVENT
DTSTART;TZID=Europe/London:20260318T100000
DTEND;TZID=Europe/London:20260318T120000
DTSTAMP:20260421T053518
CREATED:20251218T111219Z
LAST-MODIFIED:20260317T184021Z
UID:10008304-1773828000-1773835200@www.allaboutombersley.com
SUMMARY:JAG
DESCRIPTION:
URL:https://www.allaboutombersley.com/whatson/jag-11
LOCATION:Ombersley Memorial Hall\, Ombersley Memorial Hall\, Sandys Road\, Ombersley\, WR9 0DY
CATEGORIES:Public Events
ORGANIZER;CN="Ombersley Memorial Hall":MAILTO:bookings@ombersleymemorialhall.co.uk
END:VEVENT
BEGIN:VEVENT
DTSTART;TZID=Europe/London:20260318T130000
DTEND;TZID=Europe/London:20260318T170000
DTSTAMP:20260421T053518
CREATED:20260114T164356Z
LAST-MODIFIED:20260317T184021Z
UID:10008498-1773838800-1773853200@www.allaboutombersley.com
SUMMARY:Bridge
DESCRIPTION:
URL:https://www.allaboutombersley.com/whatson/bridge-71
LOCATION:Ombersley Memorial Hall\, Ombersley Memorial Hall\, Sandys Road\, Ombersley\, WR9 0DY
CATEGORIES:Public Events
ORGANIZER;CN="Ombersley Memorial Hall":MAILTO:bookings@ombersleymemorialhall.co.uk
END:VEVENT
BEGIN:VEVENT
DTSTART;TZID=Europe/London:20260318T170000
DTEND;TZID=Europe/London:20260318T200000
DTSTAMP:20260421T053518
CREATED:20251218T111219Z
LAST-MODIFIED:20260317T184021Z
UID:10008305-1773853200-1773864000@www.allaboutombersley.com
SUMMARY:Smokey Dough Pizza in car park
DESCRIPTION:
URL:https://www.allaboutombersley.com/whatson/smokey-dough-pizza-in-car-park-82
LOCATION:Ombersley Memorial Hall\, Ombersley Memorial Hall\, Sandys Road\, Ombersley\, WR9 0DY
CATEGORIES:Public Events
ORGANIZER;CN="Ombersley Memorial Hall":MAILTO:bookings@ombersleymemorialhall.co.uk
END:VEVENT
BEGIN:VEVENT
DTSTART;TZID=Europe/London:20260318T180000
DTEND;TZID=Europe/London:20260318T190000
DTSTAMP:20260421T053518
CREATED:20260116T171427Z
LAST-MODIFIED:20260317T184022Z
UID:10008537-1773856800-1773860400@www.allaboutombersley.com
SUMMARY:Yoga
DESCRIPTION:
URL:https://www.allaboutombersley.com/whatson/yoga-298
LOCATION:Ombersley Memorial Hall\, Ombersley Memorial Hall\, Sandys Road\, Ombersley\, WR9 0DY
CATEGORIES:Public Events
ORGANIZER;CN="Leah Starkey":MAILTO:leahrebeccayoga@gmail.com
END:VEVENT
BEGIN:VEVENT
DTSTART;TZID=Europe/London:20260318T180000
DTEND;TZID=Europe/London:20260318T200000
DTSTAMP:20260421T053518
CREATED:20251218T111219Z
LAST-MODIFIED:20260103T141211Z
UID:10008306-1773856800-1773864000@www.allaboutombersley.com
SUMMARY:Smokey Dough Pizza Van in car park
DESCRIPTION:
URL:https://www.allaboutombersley.com/whatson/smokey-dough-pizza-van-in-car-park-11
LOCATION:Ombersley Memorial Hall\, Ombersley Memorial Hall\, Sandys Road\, Ombersley\, WR9 0DY
CATEGORIES:Public Events
ORGANIZER;CN="Ombersley Memorial Hall":MAILTO:bookings@ombersleymemorialhall.co.uk
END:VEVENT
BEGIN:VEVENT
DTSTART;TZID=Europe/London:20260318T190000
DTEND;TZID=Europe/London:20260318T200000
DTSTAMP:20260421T053518
CREATED:20260116T171427Z
LAST-MODIFIED:20260317T184022Z
UID:10008538-1773860400-1773864000@www.allaboutombersley.com
SUMMARY:Dance Class
DESCRIPTION:
URL:https://www.allaboutombersley.com/whatson/dance-class-39
LOCATION:Ombersley Memorial Hall\, Ombersley Memorial Hall\, Sandys Road\, Ombersley\, WR9 0DY
CATEGORIES:Public Events
ORGANIZER;CN="Lois Press":MAILTO:Danceschool@entw9danceacademy.co.uk
END:VEVENT
BEGIN:VEVENT
DTSTART;TZID=Europe/London:20260319T090000
DTEND;TZID=Europe/London:20260319T130000
DTSTAMP:20260421T053518
CREATED:20260104T141448Z
LAST-MODIFIED:20260319T133958Z
UID:10008429-1773910800-1773925200@www.allaboutombersley.com
SUMMARY:Pilates
DESCRIPTION:
URL:https://www.allaboutombersley.com/whatson/pilates-696
LOCATION:Ombersley Memorial Hall\, Ombersley Memorial Hall\, Sandys Road\, Ombersley\, WR9 0DY
CATEGORIES:Public Events
ORGANIZER;CN="Ombersley Memorial Hall":MAILTO:bookings@ombersleymemorialhall.co.uk
END:VEVENT
BEGIN:VEVENT
DTSTART;TZID=Europe/London:20260319T140000
DTEND;TZID=Europe/London:20260319T160000
DTSTAMP:20260421T053518
CREATED:20251219T112743Z
LAST-MODIFIED:20260319T133958Z
UID:10008309-1773928800-1773936000@www.allaboutombersley.com
SUMMARY:Tea Shop
DESCRIPTION:
URL:https://www.allaboutombersley.com/whatson/tea-shop-59
LOCATION:Ombersley Memorial Hall\, Ombersley Memorial Hall\, Sandys Road\, Ombersley\, WR9 0DY
CATEGORIES:Own Hall Events
ORGANIZER;CN="Ombersley Memorial Hall":MAILTO:bookings@ombersleymemorialhall.co.uk
END:VEVENT
BEGIN:VEVENT
DTSTART;TZID=Europe/London:20260319T190000
DTEND;TZID=Europe/London:20260319T220000
DTSTAMP:20260421T053518
CREATED:20251220T114224Z
LAST-MODIFIED:20260319T133958Z
UID:10008312-1773946800-1773957600@www.allaboutombersley.com
SUMMARY:Ombersley Gardening Club
DESCRIPTION:
URL:https://www.allaboutombersley.com/whatson/ombersley-gardening-club-44
LOCATION:Ombersley Memorial Hall\, Ombersley Memorial Hall\, Sandys Road\, Ombersley\, WR9 0DY
CATEGORIES:Public Events
ORGANIZER;CN="Ombersley Memorial Hall":MAILTO:bookings@ombersleymemorialhall.co.uk
END:VEVENT
BEGIN:VEVENT
DTSTART;TZID=Europe/London:20260320T100000
DTEND;TZID=Europe/London:20260320T170000
DTSTAMP:20260421T053518
CREATED:20251220T114237Z
LAST-MODIFIED:20260320T201000Z
UID:10008313-1774000800-1774026000@www.allaboutombersley.com
SUMMARY:Friday Quilters
DESCRIPTION:
URL:https://www.allaboutombersley.com/whatson/friday-quilters-109
LOCATION:Ombersley Memorial Hall\, Ombersley Memorial Hall\, Sandys Road\, Ombersley\, WR9 0DY
CATEGORIES:Public Events
ORGANIZER;CN="Jane Fowler":MAILTO:Jfowler954@btinternet.com
END:VEVENT
BEGIN:VEVENT
DTSTART;TZID=Europe/London:20260320T183000
DTEND;TZID=Europe/London:20260320T220000
DTSTAMP:20260421T053518
CREATED:20251220T114237Z
LAST-MODIFIED:20260320T201001Z
UID:10008314-1774031400-1774044000@www.allaboutombersley.com
SUMMARY:WCBA
DESCRIPTION:
URL:https://www.allaboutombersley.com/whatson/wcba-33
LOCATION:Ombersley Memorial Hall\, Ombersley Memorial Hall\, Sandys Road\, Ombersley\, WR9 0DY
CATEGORIES:Public Events
ORGANIZER;CN="Ombersley Memorial Hall":MAILTO:bookings@ombersleymemorialhall.co.uk
END:VEVENT
BEGIN:VEVENT
DTSTART;TZID=Europe/London:20260321T100000
DTEND;TZID=Europe/London:20260321T170000
DTSTAMP:20260421T053518
CREATED:20251221T115736Z
LAST-MODIFIED:20260321T022506Z
UID:10008317-1774087200-1774112400@www.allaboutombersley.com
SUMMARY:Saltway Quilters
DESCRIPTION:
URL:https://www.allaboutombersley.com/whatson/saltway-quilters-31
LOCATION:Ombersley Memorial Hall\, Ombersley Memorial Hall\, Sandys Road\, Ombersley\, WR9 0DY
CATEGORIES:Public Events
ORGANIZER;CN="Shirley Price":MAILTO:Saltwayquilters@gmail.com
END:VEVENT
BEGIN:VEVENT
DTSTART;TZID=Europe/London:20260322T090000
DTEND;TZID=Europe/London:20260322T130000
DTSTAMP:20260421T053518
CREATED:20251222T121250Z
LAST-MODIFIED:20260322T111001Z
UID:10008318-1774170000-1774184400@www.allaboutombersley.com
SUMMARY:Boulton Party
DESCRIPTION:
URL:https://www.allaboutombersley.com/whatson/boulton-party-2
LOCATION:Ombersley Memorial Hall\, Ombersley Memorial Hall\, Sandys Road\, Ombersley\, WR9 0DY
CATEGORIES:Private Events
END:VEVENT
BEGIN:VEVENT
DTSTART;TZID=Europe/London:20260323T093000
DTEND;TZID=Europe/London:20260323T103000
DTSTAMP:20260421T053518
CREATED:20260104T141505Z
LAST-MODIFIED:20260323T112509Z
UID:10008430-1774258200-1774261800@www.allaboutombersley.com
SUMMARY:Zumba
DESCRIPTION:
URL:https://www.allaboutombersley.com/whatson/zumba-238
LOCATION:Ombersley Memorial Hall\, Ombersley Memorial Hall\, Sandys Road\, Ombersley\, WR9 0DY
CATEGORIES:Public Events
ORGANIZER;CN="Ombersley Memorial Hall":MAILTO:bookings@ombersleymemorialhall.co.uk
END:VEVENT
BEGIN:VEVENT
DTSTART;TZID=Europe/London:20260323T113000
DTEND;TZID=Europe/London:20260323T123000
DTSTAMP:20260421T053518
CREATED:20260104T141505Z
LAST-MODIFIED:20260323T112509Z
UID:10008431-1774265400-1774269000@www.allaboutombersley.com
SUMMARY:Over 55s Dance Class
DESCRIPTION:
URL:https://www.allaboutombersley.com/whatson/over-55s-dance-class-184
LOCATION:Ombersley Memorial Hall\, Ombersley Memorial Hall\, Sandys Road\, Ombersley\, WR9 0DY
CATEGORIES:Public Events
ORGANIZER;CN="Ombersley Memorial Hall":MAILTO:bookings@ombersleymemorialhall.co.uk
END:VEVENT
BEGIN:VEVENT
DTSTART;TZID=Europe/London:20260323T133000
DTEND;TZID=Europe/London:20260323T143000
DTSTAMP:20260421T053518
CREATED:20260104T141506Z
LAST-MODIFIED:20260323T112509Z
UID:10008432-1774272600-1774276200@www.allaboutombersley.com
SUMMARY:Pilates
DESCRIPTION:
URL:https://www.allaboutombersley.com/whatson/pilates-697
LOCATION:Ombersley Memorial Hall\, Ombersley Memorial Hall\, Sandys Road\, Ombersley\, WR9 0DY
CATEGORIES:Public Events
ORGANIZER;CN="Ombersley Memorial Hall":MAILTO:bookings@ombersleymemorialhall.co.uk
END:VEVENT
BEGIN:VEVENT
DTSTART;TZID=Europe/London:20260323T180000
DTEND;TZID=Europe/London:20260323T190000
DTSTAMP:20260421T053518
CREATED:20260116T171441Z
LAST-MODIFIED:20260323T112510Z
UID:10008539-1774288800-1774292400@www.allaboutombersley.com
SUMMARY:Dance Class
DESCRIPTION:
URL:https://www.allaboutombersley.com/whatson/dance-class-40
LOCATION:Ombersley Memorial Hall\, Ombersley Memorial Hall\, Sandys Road\, Ombersley\, WR9 0DY
CATEGORIES:Public Events
ORGANIZER;CN="Lois Press":MAILTO:Danceschool@entw9danceacademy.co.uk
END:VEVENT
BEGIN:VEVENT
DTSTART;TZID=Europe/London:20260323T180000
DTEND;TZID=Europe/London:20260323T190000
DTSTAMP:20260421T053518
CREATED:20260104T141506Z
LAST-MODIFIED:20260202T213219Z
UID:10008433-1774288800-1774292400@www.allaboutombersley.com
SUMMARY:Dance Class
DESCRIPTION:
URL:https://www.allaboutombersley.com/whatson/dance-class-10
LOCATION:Ombersley Memorial Hall\, Ombersley Memorial Hall\, Sandys Road\, Ombersley\, WR9 0DY
CATEGORIES:Public Events
ORGANIZER;CN="Ombersley Memorial Hall":MAILTO:bookings@ombersleymemorialhall.co.uk
END:VEVENT
BEGIN:VEVENT
DTSTART;TZID=Europe/London:20260323T200000
DTEND;TZID=Europe/London:20260323T210000
DTSTAMP:20260421T053518
CREATED:20251223T121257Z
LAST-MODIFIED:20260323T112510Z
UID:10008319-1774296000-1774299600@www.allaboutombersley.com
SUMMARY:Boot Camp
DESCRIPTION:
URL:https://www.allaboutombersley.com/whatson/boot-camp-242
LOCATION:Ombersley Memorial Hall\, Ombersley Memorial Hall\, Sandys Road\, Ombersley\, WR9 0DY
CATEGORIES:Public Events
ORGANIZER;CN="Ombersley Memorial Hall":MAILTO:bookings@ombersleymemorialhall.co.uk
END:VEVENT
BEGIN:VEVENT
DTSTART;TZID=Europe/London:20260324T090000
DTEND;TZID=Europe/London:20260324T120000
DTSTAMP:20260421T053518
CREATED:20260104T141507Z
LAST-MODIFIED:20260324T114000Z
UID:10008434-1774342800-1774353600@www.allaboutombersley.com
SUMMARY:Pilates
DESCRIPTION:
URL:https://www.allaboutombersley.com/whatson/pilates-698
LOCATION:Ombersley Memorial Hall\, Ombersley Memorial Hall\, Sandys Road\, Ombersley\, WR9 0DY
CATEGORIES:Public Events
ORGANIZER;CN="Ombersley Memorial Hall":MAILTO:bookings@ombersleymemorialhall.co.uk
END:VEVENT
BEGIN:VEVENT
DTSTART;TZID=Europe/London:20260324T190000
DTEND;TZID=Europe/London:20260324T220000
DTSTAMP:20260421T053518
CREATED:20260104T141508Z
LAST-MODIFIED:20260324T114000Z
UID:10008435-1774378800-1774389600@www.allaboutombersley.com
SUMMARY:Voices Unlimited
DESCRIPTION:
URL:https://www.allaboutombersley.com/whatson/voices-unlimited-210
LOCATION:Ombersley Memorial Hall\, Ombersley Memorial Hall\, Sandys Road\, Ombersley\, WR9 0DY
CATEGORIES:Public Events
ORGANIZER;CN="Ombersley Memorial Hall":MAILTO:bookings@ombersleymemorialhall.co.uk
END:VEVENT
BEGIN:VEVENT
DTSTART;TZID=Europe/London:20260325T070000
DTEND;TZID=Europe/London:20260325T200000
DTSTAMP:20260421T053518
CREATED:20260106T144435Z
LAST-MODIFIED:20260202T213227Z
UID:10008465-1774422000-1774468800@www.allaboutombersley.com
SUMMARY:Dance Class
DESCRIPTION:
URL:https://www.allaboutombersley.com/whatson/dance-class-21
LOCATION:Ombersley Memorial Hall\, Ombersley Memorial Hall\, Sandys Road\, Ombersley\, WR9 0DY
CATEGORIES:Public Events
ORGANIZER;CN="Ombersley Memorial Hall":MAILTO:bookings@ombersleymemorialhall.co.uk
END:VEVENT
BEGIN:VEVENT
DTSTART;TZID=Europe/London:20260325T100000
DTEND;TZID=Europe/London:20260325T110000
DTSTAMP:20260421T053518
CREATED:20251225T124227Z
LAST-MODIFIED:20260325T115509Z
UID:10008324-1774432800-1774436400@www.allaboutombersley.com
SUMMARY:Fitness Class
DESCRIPTION:
URL:https://www.allaboutombersley.com/whatson/sweaty-mama-235
LOCATION:Ombersley Memorial Hall\, Ombersley Memorial Hall\, Sandys Road\, Ombersley\, WR9 0DY
CATEGORIES:Public Events
ORGANIZER;CN="Rachel Aslam":MAILTO:Rachelaslam@sweatymama.com
END:VEVENT
BEGIN:VEVENT
DTSTART;TZID=Europe/London:20260325T100000
DTEND;TZID=Europe/London:20260325T120000
DTSTAMP:20260421T053518
CREATED:20251225T124227Z
LAST-MODIFIED:20260325T115509Z
UID:10008325-1774432800-1774440000@www.allaboutombersley.com
SUMMARY:JAG
DESCRIPTION:
URL:https://www.allaboutombersley.com/whatson/jag-12
LOCATION:Ombersley Memorial Hall\, Ombersley Memorial Hall\, Sandys Road\, Ombersley\, WR9 0DY
CATEGORIES:Public Events
ORGANIZER;CN="Ombersley Memorial Hall":MAILTO:bookings@ombersleymemorialhall.co.uk
END:VEVENT
BEGIN:VEVENT
DTSTART;TZID=Europe/London:20260325T170000
DTEND;TZID=Europe/London:20260325T200000
DTSTAMP:20260421T053518
CREATED:20251225T124227Z
LAST-MODIFIED:20260325T115509Z
UID:10008326-1774458000-1774468800@www.allaboutombersley.com
SUMMARY:Smokey Dough Pizza in car park
DESCRIPTION:
URL:https://www.allaboutombersley.com/whatson/smokey-dough-pizza-in-car-park-83
LOCATION:Ombersley Memorial Hall\, Ombersley Memorial Hall\, Sandys Road\, Ombersley\, WR9 0DY
CATEGORIES:Public Events
ORGANIZER;CN="Ombersley Memorial Hall":MAILTO:bookings@ombersleymemorialhall.co.uk
END:VEVENT
BEGIN:VEVENT
DTSTART;TZID=Europe/London:20260325T180000
DTEND;TZID=Europe/London:20260325T190000
DTSTAMP:20260421T053518
CREATED:20260116T171455Z
LAST-MODIFIED:20260325T115509Z
UID:10008540-1774461600-1774465200@www.allaboutombersley.com
SUMMARY:Yoga
DESCRIPTION:
URL:https://www.allaboutombersley.com/whatson/yoga-299
LOCATION:Ombersley Memorial Hall\, Ombersley Memorial Hall\, Sandys Road\, Ombersley\, WR9 0DY
CATEGORIES:Public Events
ORGANIZER;CN="Leah Starkey":MAILTO:leahrebeccayoga@gmail.com
END:VEVENT
BEGIN:VEVENT
DTSTART;TZID=Europe/London:20260325T180000
DTEND;TZID=Europe/London:20260325T200000
DTSTAMP:20260421T053518
CREATED:20251225T124228Z
LAST-MODIFIED:20260103T141225Z
UID:10008327-1774461600-1774468800@www.allaboutombersley.com
SUMMARY:Smokey Dough Pizza Van in car park
DESCRIPTION:
URL:https://www.allaboutombersley.com/whatson/smokey-dough-pizza-van-in-car-park-12
LOCATION:Ombersley Memorial Hall\, Ombersley Memorial Hall\, Sandys Road\, Ombersley\, WR9 0DY
CATEGORIES:Public Events
ORGANIZER;CN="Ombersley Memorial Hall":MAILTO:bookings@ombersleymemorialhall.co.uk
END:VEVENT
BEGIN:VEVENT
DTSTART;TZID=Europe/London:20260325T190000
DTEND;TZID=Europe/London:20260325T200000
DTSTAMP:20260421T053518
CREATED:20260116T171456Z
LAST-MODIFIED:20260325T115509Z
UID:10008541-1774465200-1774468800@www.allaboutombersley.com
SUMMARY:Dance Class
DESCRIPTION:
URL:https://www.allaboutombersley.com/whatson/dance-class-41
LOCATION:Ombersley Memorial Hall\, Ombersley Memorial Hall\, Sandys Road\, Ombersley\, WR9 0DY
CATEGORIES:Public Events
ORGANIZER;CN="Lois Press":MAILTO:Danceschool@entw9danceacademy.co.uk
END:VEVENT
BEGIN:VEVENT
DTSTART;TZID=Europe/London:20260326T090000
DTEND;TZID=Europe/London:20260326T130000
DTSTAMP:20260421T053518
CREATED:20260104T141524Z
LAST-MODIFIED:20260326T121008Z
UID:10008436-1774515600-1774530000@www.allaboutombersley.com
SUMMARY:Pilates
DESCRIPTION:
URL:https://www.allaboutombersley.com/whatson/pilates-699
LOCATION:Ombersley Memorial Hall\, Ombersley Memorial Hall\, Sandys Road\, Ombersley\, WR9 0DY
CATEGORIES:Public Events
ORGANIZER;CN="Ombersley Memorial Hall":MAILTO:bookings@ombersleymemorialhall.co.uk
END:VEVENT
BEGIN:VEVENT
DTSTART;TZID=Europe/London:20260326T140000
DTEND;TZID=Europe/London:20260326T160000
DTSTAMP:20260421T053518
CREATED:20251226T125750Z
LAST-MODIFIED:20260308T162608Z
UID:10008330-1774533600-1774540800@www.allaboutombersley.com
SUMMARY:Tea shop
DESCRIPTION:
URL:https://www.allaboutombersley.com/whatson/tea-shop-60
LOCATION:Ombersley Memorial Hall\, Ombersley Memorial Hall\, Sandys Road\, Ombersley\, WR9 0DY
CATEGORIES:Own Hall Events
ORGANIZER;CN="Ombersley Memorial Hall":MAILTO:bookings@ombersleymemorialhall.co.uk
END:VEVENT
END:VCALENDAR