BEGIN:VCALENDAR
VERSION:2.0
PRODID:-//All About Ombersley &amp; Doverdale - ECPv6.15.20//NONSGML v1.0//EN
CALSCALE:GREGORIAN
METHOD:PUBLISH
X-WR-CALNAME:All About Ombersley &amp; Doverdale
X-ORIGINAL-URL:https://www.allaboutombersley.com
X-WR-CALDESC:Events for All About Ombersley &amp; Doverdale
REFRESH-INTERVAL;VALUE=DURATION:PT1H
X-Robots-Tag:noindex
X-PUBLISHED-TTL:PT1H
BEGIN:VTIMEZONE
TZID:Europe/London
BEGIN:DAYLIGHT
TZOFFSETFROM:+0000
TZOFFSETTO:+0100
TZNAME:BST
DTSTART:20250330T010000
END:DAYLIGHT
BEGIN:STANDARD
TZOFFSETFROM:+0100
TZOFFSETTO:+0000
TZNAME:GMT
DTSTART:20251026T010000
END:STANDARD
BEGIN:DAYLIGHT
TZOFFSETFROM:+0000
TZOFFSETTO:+0100
TZNAME:BST
DTSTART:20260329T010000
END:DAYLIGHT
BEGIN:STANDARD
TZOFFSETFROM:+0100
TZOFFSETTO:+0000
TZNAME:GMT
DTSTART:20261025T010000
END:STANDARD
BEGIN:DAYLIGHT
TZOFFSETFROM:+0000
TZOFFSETTO:+0100
TZNAME:BST
DTSTART:20270328T010000
END:DAYLIGHT
BEGIN:STANDARD
TZOFFSETFROM:+0100
TZOFFSETTO:+0000
TZNAME:GMT
DTSTART:20271031T010000
END:STANDARD
END:VTIMEZONE
BEGIN:VEVENT
DTSTART;TZID=Europe/London:20260309T200000
DTEND;TZID=Europe/London:20260309T210000
DTSTAMP:20260421T032118
CREATED:20251209T232723Z
LAST-MODIFIED:20260309T164003Z
UID:10008270-1773086400-1773090000@www.allaboutombersley.com
SUMMARY:Boot Camp
DESCRIPTION:
URL:https://www.allaboutombersley.com/whatson/boot-camp-240
LOCATION:Ombersley Memorial Hall\, Ombersley Memorial Hall\, Sandys Road\, Ombersley\, WR9 0DY
CATEGORIES:Public Events
ORGANIZER;CN="Ombersley Memorial Hall":MAILTO:bookings@ombersleymemorialhall.co.uk
END:VEVENT
BEGIN:VEVENT
DTSTART;TZID=Europe/London:20260310T090000
DTEND;TZID=Europe/London:20260310T120000
DTSTAMP:20260421T032118
CREATED:20260104T141414Z
LAST-MODIFIED:20260310T165459Z
UID:10008420-1773133200-1773144000@www.allaboutombersley.com
SUMMARY:Pilates
DESCRIPTION:
URL:https://www.allaboutombersley.com/whatson/pilates-692
LOCATION:Ombersley Memorial Hall\, Ombersley Memorial Hall\, Sandys Road\, Ombersley\, WR9 0DY
CATEGORIES:Public Events
ORGANIZER;CN="Ombersley Memorial Hall":MAILTO:bookings@ombersleymemorialhall.co.uk
END:VEVENT
BEGIN:VEVENT
DTSTART;TZID=Europe/London:20260310T190000
DTEND;TZID=Europe/London:20260310T220000
DTSTAMP:20260421T032118
CREATED:20260104T141415Z
LAST-MODIFIED:20260310T165459Z
UID:10008421-1773169200-1773180000@www.allaboutombersley.com
SUMMARY:Voices Unlimited
DESCRIPTION:
URL:https://www.allaboutombersley.com/whatson/voices-unlimited-208
LOCATION:Ombersley Memorial Hall\, Ombersley Memorial Hall\, Sandys Road\, Ombersley\, WR9 0DY
CATEGORIES:Public Events
ORGANIZER;CN="Ombersley Memorial Hall":MAILTO:bookings@ombersleymemorialhall.co.uk
END:VEVENT
BEGIN:VEVENT
DTSTART;TZID=Europe/London:20260311T070000
DTEND;TZID=Europe/London:20260311T200000
DTSTAMP:20260421T032119
CREATED:20260106T144348Z
LAST-MODIFIED:20260202T213005Z
UID:10008463-1773212400-1773259200@www.allaboutombersley.com
SUMMARY:Dance Class
DESCRIPTION:
URL:https://www.allaboutombersley.com/whatson/dance-class-19
LOCATION:Ombersley Memorial Hall\, Ombersley Memorial Hall\, Sandys Road\, Ombersley\, WR9 0DY
CATEGORIES:Public Events
ORGANIZER;CN="Ombersley Memorial Hall":MAILTO:bookings@ombersleymemorialhall.co.uk
END:VEVENT
BEGIN:VEVENT
DTSTART;TZID=Europe/London:20260311T100000
DTEND;TZID=Europe/London:20260311T110000
DTSTAMP:20260421T032119
CREATED:20251211T232711Z
LAST-MODIFIED:20260311T170959Z
UID:10008278-1773223200-1773226800@www.allaboutombersley.com
SUMMARY:Fitness Class
DESCRIPTION:
URL:https://www.allaboutombersley.com/whatson/sweaty-mama-233
LOCATION:Ombersley Memorial Hall\, Ombersley Memorial Hall\, Sandys Road\, Ombersley\, WR9 0DY
CATEGORIES:Public Events
ORGANIZER;CN="Rachel Aslam":MAILTO:Rachelaslam@sweatymama.com
END:VEVENT
BEGIN:VEVENT
DTSTART;TZID=Europe/London:20260311T100000
DTEND;TZID=Europe/London:20260311T120000
DTSTAMP:20260421T032119
CREATED:20251211T232712Z
LAST-MODIFIED:20260311T170959Z
UID:10008279-1773223200-1773230400@www.allaboutombersley.com
SUMMARY:JAG
DESCRIPTION:
URL:https://www.allaboutombersley.com/whatson/jag-10
LOCATION:Ombersley Memorial Hall\, Ombersley Memorial Hall\, Sandys Road\, Ombersley\, WR9 0DY
CATEGORIES:Public Events
ORGANIZER;CN="Ombersley Memorial Hall":MAILTO:bookings@ombersleymemorialhall.co.uk
END:VEVENT
BEGIN:VEVENT
DTSTART;TZID=Europe/London:20260311T123000
DTEND;TZID=Europe/London:20260311T133000
DTSTAMP:20260421T032119
CREATED:20260122T184314Z
LAST-MODIFIED:20260311T170959Z
UID:10008564-1773232200-1773235800@www.allaboutombersley.com
SUMMARY:Ombersley Gardening Club Meeting JR
DESCRIPTION:
URL:https://www.allaboutombersley.com/whatson/ombersley-gardening-club-meeting-jr
LOCATION:Ombersley Memorial Hall\, Ombersley Memorial Hall\, Sandys Road\, Ombersley\, WR9 0DY
CATEGORIES:Public Events
ORGANIZER;CN="Ombersley Memorial Hall":MAILTO:bookings@ombersleymemorialhall.co.uk
END:VEVENT
BEGIN:VEVENT
DTSTART;TZID=Europe/London:20260311T170000
DTEND;TZID=Europe/London:20260311T200000
DTSTAMP:20260421T032119
CREATED:20251211T232712Z
LAST-MODIFIED:20260311T170959Z
UID:10008280-1773248400-1773259200@www.allaboutombersley.com
SUMMARY:Smokey Dough Pizza in car park
DESCRIPTION:
URL:https://www.allaboutombersley.com/whatson/smokey-dough-pizza-in-car-park-81
LOCATION:Ombersley Memorial Hall\, Ombersley Memorial Hall\, Sandys Road\, Ombersley\, WR9 0DY
CATEGORIES:Public Events
ORGANIZER;CN="Ombersley Memorial Hall":MAILTO:bookings@ombersleymemorialhall.co.uk
END:VEVENT
BEGIN:VEVENT
DTSTART;TZID=Europe/London:20260311T180000
DTEND;TZID=Europe/London:20260311T190000
DTSTAMP:20260421T032119
CREATED:20260116T171359Z
LAST-MODIFIED:20260311T170959Z
UID:10008533-1773252000-1773255600@www.allaboutombersley.com
SUMMARY:Yoga
DESCRIPTION:
URL:https://www.allaboutombersley.com/whatson/yoga-297
LOCATION:Ombersley Memorial Hall\, Ombersley Memorial Hall\, Sandys Road\, Ombersley\, WR9 0DY
CATEGORIES:Public Events
ORGANIZER;CN="Leah Starkey":MAILTO:leahrebeccayoga@gmail.com
END:VEVENT
BEGIN:VEVENT
DTSTART;TZID=Europe/London:20260311T180000
DTEND;TZID=Europe/London:20260311T200000
DTSTAMP:20260421T032119
CREATED:20251218T111218Z
LAST-MODIFIED:20260103T141158Z
UID:10008302-1773252000-1773259200@www.allaboutombersley.com
SUMMARY:Smokey Dough Pizza Van in car park
DESCRIPTION:
URL:https://www.allaboutombersley.com/whatson/smokey-dough-pizza-van-in-car-park-10
LOCATION:Ombersley Memorial Hall\, Ombersley Memorial Hall\, Sandys Road\, Ombersley\, WR9 0DY
CATEGORIES:Public Events
ORGANIZER;CN="Ombersley Memorial Hall":MAILTO:bookings@ombersleymemorialhall.co.uk
END:VEVENT
BEGIN:VEVENT
DTSTART;TZID=Europe/London:20260311T190000
DTEND;TZID=Europe/London:20260311T200000
DTSTAMP:20260421T032119
CREATED:20260116T171359Z
LAST-MODIFIED:20260311T171000Z
UID:10008534-1773255600-1773259200@www.allaboutombersley.com
SUMMARY:Dance Class
DESCRIPTION:
URL:https://www.allaboutombersley.com/whatson/dance-class-37
LOCATION:Ombersley Memorial Hall\, Ombersley Memorial Hall\, Sandys Road\, Ombersley\, WR9 0DY
CATEGORIES:Public Events
ORGANIZER;CN="Lois Press":MAILTO:Danceschool@entw9danceacademy.co.uk
END:VEVENT
BEGIN:VEVENT
DTSTART;TZID=Europe/London:20260312T090000
DTEND;TZID=Europe/London:20260312T130000
DTSTAMP:20260421T032119
CREATED:20260104T141415Z
LAST-MODIFIED:20260312T172507Z
UID:10008422-1773306000-1773320400@www.allaboutombersley.com
SUMMARY:Pilates
DESCRIPTION:
URL:https://www.allaboutombersley.com/whatson/pilates-693
LOCATION:Ombersley Memorial Hall\, Ombersley Memorial Hall\, Sandys Road\, Ombersley\, WR9 0DY
CATEGORIES:Public Events
ORGANIZER;CN="Ombersley Memorial Hall":MAILTO:bookings@ombersleymemorialhall.co.uk
END:VEVENT
BEGIN:VEVENT
DTSTART;TZID=Europe/London:20260312T163000
DTEND;TZID=Europe/London:20260312T183000
DTSTAMP:20260421T032119
CREATED:20260108T151343Z
LAST-MODIFIED:20260312T172508Z
UID:10008474-1773333000-1773340200@www.allaboutombersley.com
SUMMARY:Committee Meeting JR
DESCRIPTION:
URL:https://www.allaboutombersley.com/whatson/committee-meeting-jr-5
LOCATION:Ombersley Memorial Hall\, Ombersley Memorial Hall\, Sandys Road\, Ombersley\, WR9 0DY
CATEGORIES:Own Hall Events
ORGANIZER;CN="Ombersley Memorial Hall":MAILTO:bookings@ombersleymemorialhall.co.uk
END:VEVENT
BEGIN:VEVENT
DTSTART;TZID=Europe/London:20260312T180000
DTEND;TZID=Europe/London:20260312T193000
DTSTAMP:20260421T032119
CREATED:20251212T234227Z
LAST-MODIFIED:20260107T145848Z
UID:10008282-1773338400-1773343800@www.allaboutombersley.com
SUMMARY:Committee Meeting JR
DESCRIPTION:
URL:https://www.allaboutombersley.com/whatson/committee-meeting-jr-3
LOCATION:Ombersley Memorial Hall\, Ombersley Memorial Hall\, Sandys Road\, Ombersley\, WR9 0DY
CATEGORIES:Own Hall Events
ORGANIZER;CN="Ombersley Memorial Hall":MAILTO:bookings@ombersleymemorialhall.co.uk
END:VEVENT
BEGIN:VEVENT
DTSTART;TZID=Europe/London:20260312T200000
DTEND;TZID=Europe/London:20260312T210000
DTSTAMP:20260421T032119
CREATED:20260219T122641Z
LAST-MODIFIED:20260312T172509Z
UID:10008674-1773345600-1773349200@www.allaboutombersley.com
SUMMARY:Boot Camp
DESCRIPTION:
URL:https://www.allaboutombersley.com/whatson/boot-camp-252
LOCATION:Ombersley Memorial Hall\, Ombersley Memorial Hall\, Sandys Road\, Ombersley\, WR9 0DY
CATEGORIES:Public Events
ORGANIZER;CN="Ombersley Memorial Hall":MAILTO:bookings@ombersleymemorialhall.co.uk
END:VEVENT
BEGIN:VEVENT
DTSTART;TZID=Europe/London:20260313T100000
DTEND;TZID=Europe/London:20260313T170000
DTSTAMP:20260421T032119
CREATED:20251213T234213Z
LAST-MODIFIED:20260313T174007Z
UID:10008284-1773396000-1773421200@www.allaboutombersley.com
SUMMARY:Friday Quilters
DESCRIPTION:
URL:https://www.allaboutombersley.com/whatson/friday-quilters-107
LOCATION:Ombersley Memorial Hall\, Ombersley Memorial Hall\, Sandys Road\, Ombersley\, WR9 0DY
CATEGORIES:Public Events
ORGANIZER;CN="Jane Fowler":MAILTO:Jfowler954@btinternet.com
END:VEVENT
BEGIN:VEVENT
DTSTART;TZID=Europe/London:20260314T080000
DTEND;TZID=Europe/London:20260314T170000
DTSTAMP:20260421T032119
CREATED:20251214T234221Z
LAST-MODIFIED:20260314T175459Z
UID:10008286-1773475200-1773507600@www.allaboutombersley.com
SUMMARY:Friday Quilters
DESCRIPTION:
URL:https://www.allaboutombersley.com/whatson/friday-quilters-108
LOCATION:Ombersley Memorial Hall\, Ombersley Memorial Hall\, Sandys Road\, Ombersley\, WR9 0DY
CATEGORIES:Public Events
ORGANIZER;CN="Jane Fowler":MAILTO:Jfowler954@btinternet.com
END:VEVENT
BEGIN:VEVENT
DTSTART;TZID=Europe/London:20260315T110000
DTEND;TZID=Europe/London:20260315T170000
DTSTAMP:20260421T032119
CREATED:20260116T171412Z
LAST-MODIFIED:20260315T180959Z
UID:10008535-1773572400-1773594000@www.allaboutombersley.com
SUMMARY:WCBA
DESCRIPTION:
URL:https://www.allaboutombersley.com/whatson/wcba-34
LOCATION:Ombersley Memorial Hall\, Ombersley Memorial Hall\, Sandys Road\, Ombersley\, WR9 0DY
CATEGORIES:Public Events
ORGANIZER;CN="Ombersley Memorial Hall":MAILTO:bookings@ombersleymemorialhall.co.uk
END:VEVENT
BEGIN:VEVENT
DTSTART;TZID=Europe/London:20260316T093000
DTEND;TZID=Europe/London:20260316T103000
DTSTAMP:20260421T032119
CREATED:20260104T141430Z
LAST-MODIFIED:20260316T182520Z
UID:10008423-1773653400-1773657000@www.allaboutombersley.com
SUMMARY:Zumba
DESCRIPTION:
URL:https://www.allaboutombersley.com/whatson/zumba-237
LOCATION:Ombersley Memorial Hall\, Ombersley Memorial Hall\, Sandys Road\, Ombersley\, WR9 0DY
CATEGORIES:Public Events
ORGANIZER;CN="Ombersley Memorial Hall":MAILTO:bookings@ombersleymemorialhall.co.uk
END:VEVENT
BEGIN:VEVENT
DTSTART;TZID=Europe/London:20260316T113000
DTEND;TZID=Europe/London:20260316T123000
DTSTAMP:20260421T032119
CREATED:20260104T141430Z
LAST-MODIFIED:20260316T182520Z
UID:10008424-1773660600-1773664200@www.allaboutombersley.com
SUMMARY:Over 55s Dance Class
DESCRIPTION:
URL:https://www.allaboutombersley.com/whatson/over-55s-dance-class-183
LOCATION:Ombersley Memorial Hall\, Ombersley Memorial Hall\, Sandys Road\, Ombersley\, WR9 0DY
CATEGORIES:Public Events
ORGANIZER;CN="Ombersley Memorial Hall":MAILTO:bookings@ombersleymemorialhall.co.uk
END:VEVENT
BEGIN:VEVENT
DTSTART;TZID=Europe/London:20260316T133000
DTEND;TZID=Europe/London:20260316T143000
DTSTAMP:20260421T032119
CREATED:20260104T141430Z
LAST-MODIFIED:20260316T182520Z
UID:10008425-1773667800-1773671400@www.allaboutombersley.com
SUMMARY:Pilates
DESCRIPTION:
URL:https://www.allaboutombersley.com/whatson/pilates-694
LOCATION:Ombersley Memorial Hall\, Ombersley Memorial Hall\, Sandys Road\, Ombersley\, WR9 0DY
CATEGORIES:Public Events
ORGANIZER;CN="Ombersley Memorial Hall":MAILTO:bookings@ombersleymemorialhall.co.uk
END:VEVENT
BEGIN:VEVENT
DTSTART;TZID=Europe/London:20260316T160000
DTEND;TZID=Europe/London:20260316T200000
DTSTAMP:20260421T032119
CREATED:20260221T125627Z
LAST-MODIFIED:20260316T182520Z
UID:10008687-1773676800-1773691200@www.allaboutombersley.com
SUMMARY:Fish and chip van in car park
DESCRIPTION:
URL:https://www.allaboutombersley.com/whatson/fish-and-chip-van-in-car-park-5
LOCATION:Ombersley Memorial Hall\, Ombersley Memorial Hall\, Sandys Road\, Ombersley\, WR9 0DY
CATEGORIES:Public Events
ORGANIZER;CN="Ombersley Memorial Hall":MAILTO:bookings@ombersleymemorialhall.co.uk
END:VEVENT
BEGIN:VEVENT
DTSTART;TZID=Europe/London:20260316T163000
DTEND;TZID=Europe/London:20260316T190000
DTSTAMP:20260421T032119
CREATED:20260310T165514Z
LAST-MODIFIED:20260316T182521Z
UID:10008736-1773678600-1773687600@www.allaboutombersley.com
SUMMARY:Meeting JR
DESCRIPTION:
URL:https://www.allaboutombersley.com/whatson/meeting-jr
LOCATION:Ombersley Memorial Hall\, Ombersley Memorial Hall\, Sandys Road\, Ombersley\, WR9 0DY
CATEGORIES:Private Events
ORGANIZER;CN="Ombersley Memorial Hall":MAILTO:bookings@ombersleymemorialhall.co.uk
END:VEVENT
BEGIN:VEVENT
DTSTART;TZID=Europe/London:20260316T180000
DTEND;TZID=Europe/London:20260316T190000
DTSTAMP:20260421T032119
CREATED:20260116T171413Z
LAST-MODIFIED:20260316T182521Z
UID:10008536-1773684000-1773687600@www.allaboutombersley.com
SUMMARY:Dance Class
DESCRIPTION:
URL:https://www.allaboutombersley.com/whatson/dance-class-38
LOCATION:Ombersley Memorial Hall\, Ombersley Memorial Hall\, Sandys Road\, Ombersley\, WR9 0DY
CATEGORIES:Public Events
ORGANIZER;CN="Lois Press":MAILTO:Danceschool@entw9danceacademy.co.uk
END:VEVENT
BEGIN:VEVENT
DTSTART;TZID=Europe/London:20260316T180000
DTEND;TZID=Europe/London:20260316T190000
DTSTAMP:20260421T032119
CREATED:20260104T141431Z
LAST-MODIFIED:20260202T213050Z
UID:10008426-1773684000-1773687600@www.allaboutombersley.com
SUMMARY:Dance Class
DESCRIPTION:
URL:https://www.allaboutombersley.com/whatson/dance-class-9
LOCATION:Ombersley Memorial Hall\, Ombersley Memorial Hall\, Sandys Road\, Ombersley\, WR9 0DY
CATEGORIES:Public Events
ORGANIZER;CN="Ombersley Memorial Hall":MAILTO:bookings@ombersleymemorialhall.co.uk
END:VEVENT
BEGIN:VEVENT
DTSTART;TZID=Europe/London:20260316T200000
DTEND;TZID=Europe/London:20260316T210000
DTSTAMP:20260421T032119
CREATED:20251216T235720Z
LAST-MODIFIED:20260316T182521Z
UID:10008288-1773691200-1773694800@www.allaboutombersley.com
SUMMARY:Boot Camp
DESCRIPTION:
URL:https://www.allaboutombersley.com/whatson/boot-camp-241
LOCATION:Ombersley Memorial Hall\, Ombersley Memorial Hall\, Sandys Road\, Ombersley\, WR9 0DY
CATEGORIES:Public Events
ORGANIZER;CN="Ombersley Memorial Hall":MAILTO:bookings@ombersleymemorialhall.co.uk
END:VEVENT
BEGIN:VEVENT
DTSTART;TZID=Europe/London:20260317T090000
DTEND;TZID=Europe/London:20260317T120000
DTSTAMP:20260421T032119
CREATED:20260104T141431Z
LAST-MODIFIED:20260317T184020Z
UID:10008427-1773738000-1773748800@www.allaboutombersley.com
SUMMARY:Pilates
DESCRIPTION:
URL:https://www.allaboutombersley.com/whatson/pilates-695
LOCATION:Ombersley Memorial Hall\, Ombersley Memorial Hall\, Sandys Road\, Ombersley\, WR9 0DY
CATEGORIES:Public Events
ORGANIZER;CN="Ombersley Memorial Hall":MAILTO:bookings@ombersleymemorialhall.co.uk
END:VEVENT
BEGIN:VEVENT
DTSTART;TZID=Europe/London:20260317T190000
DTEND;TZID=Europe/London:20260317T220000
DTSTAMP:20260421T032119
CREATED:20260104T141432Z
LAST-MODIFIED:20260317T184020Z
UID:10008428-1773774000-1773784800@www.allaboutombersley.com
SUMMARY:Voices Unlimited
DESCRIPTION:
URL:https://www.allaboutombersley.com/whatson/voices-unlimited-209
LOCATION:Ombersley Memorial Hall\, Ombersley Memorial Hall\, Sandys Road\, Ombersley\, WR9 0DY
CATEGORIES:Public Events
ORGANIZER;CN="Ombersley Memorial Hall":MAILTO:bookings@ombersleymemorialhall.co.uk
END:VEVENT
BEGIN:VEVENT
DTSTART;TZID=Europe/London:20260318T070000
DTEND;TZID=Europe/London:20260318T200000
DTSTAMP:20260421T032119
CREATED:20260106T144406Z
LAST-MODIFIED:20260202T213051Z
UID:10008464-1773817200-1773864000@www.allaboutombersley.com
SUMMARY:Dance Class
DESCRIPTION:
URL:https://www.allaboutombersley.com/whatson/dance-class-20
LOCATION:Ombersley Memorial Hall\, Ombersley Memorial Hall\, Sandys Road\, Ombersley\, WR9 0DY
CATEGORIES:Public Events
ORGANIZER;CN="Ombersley Memorial Hall":MAILTO:bookings@ombersleymemorialhall.co.uk
END:VEVENT
BEGIN:VEVENT
DTSTART;TZID=Europe/London:20260318T100000
DTEND;TZID=Europe/London:20260318T110000
DTSTAMP:20260421T032119
CREATED:20251218T111219Z
LAST-MODIFIED:20260317T184021Z
UID:10008303-1773828000-1773831600@www.allaboutombersley.com
SUMMARY:Fitness Class
DESCRIPTION:
URL:https://www.allaboutombersley.com/whatson/sweaty-mama-234
LOCATION:Ombersley Memorial Hall\, Ombersley Memorial Hall\, Sandys Road\, Ombersley\, WR9 0DY
CATEGORIES:Public Events
ORGANIZER;CN="Rachel Aslam":MAILTO:Rachelaslam@sweatymama.com
END:VEVENT
END:VCALENDAR