BEGIN:VCALENDAR
VERSION:2.0
PRODID:-//All About Ombersley &amp; Doverdale - ECPv6.15.20//NONSGML v1.0//EN
CALSCALE:GREGORIAN
METHOD:PUBLISH
X-WR-CALNAME:All About Ombersley &amp; Doverdale
X-ORIGINAL-URL:https://www.allaboutombersley.com
X-WR-CALDESC:Events for All About Ombersley &amp; Doverdale
REFRESH-INTERVAL;VALUE=DURATION:PT1H
X-Robots-Tag:noindex
X-PUBLISHED-TTL:PT1H
BEGIN:VTIMEZONE
TZID:Europe/London
BEGIN:DAYLIGHT
TZOFFSETFROM:+0000
TZOFFSETTO:+0100
TZNAME:BST
DTSTART:20250330T010000
END:DAYLIGHT
BEGIN:STANDARD
TZOFFSETFROM:+0100
TZOFFSETTO:+0000
TZNAME:GMT
DTSTART:20251026T010000
END:STANDARD
BEGIN:DAYLIGHT
TZOFFSETFROM:+0000
TZOFFSETTO:+0100
TZNAME:BST
DTSTART:20260329T010000
END:DAYLIGHT
BEGIN:STANDARD
TZOFFSETFROM:+0100
TZOFFSETTO:+0000
TZNAME:GMT
DTSTART:20261025T010000
END:STANDARD
BEGIN:DAYLIGHT
TZOFFSETFROM:+0000
TZOFFSETTO:+0100
TZNAME:BST
DTSTART:20270328T010000
END:DAYLIGHT
BEGIN:STANDARD
TZOFFSETFROM:+0100
TZOFFSETTO:+0000
TZNAME:GMT
DTSTART:20271031T010000
END:STANDARD
END:VTIMEZONE
BEGIN:VEVENT
DTSTART;TZID=Europe/London:20260218T130000
DTEND;TZID=Europe/London:20260218T170000
DTSTAMP:20260419T201121
CREATED:20260114T164219Z
LAST-MODIFIED:20260218T121000Z
UID:10008497-1771419600-1771434000@www.allaboutombersley.com
SUMMARY:Bridge
DESCRIPTION:
URL:https://www.allaboutombersley.com/whatson/bridge-70
LOCATION:Ombersley Memorial Hall\, Ombersley Memorial Hall\, Sandys Road\, Ombersley\, WR9 0DY
CATEGORIES:Public Events
ORGANIZER;CN="Ombersley Memorial Hall":MAILTO:bookings@ombersleymemorialhall.co.uk
END:VEVENT
BEGIN:VEVENT
DTSTART;TZID=Europe/London:20260218T170000
DTEND;TZID=Europe/London:20260218T200000
DTSTAMP:20260419T201121
CREATED:20251120T195738Z
LAST-MODIFIED:20260218T121000Z
UID:10008221-1771434000-1771444800@www.allaboutombersley.com
SUMMARY:Smokey Dough Pizza in car park
DESCRIPTION:
URL:https://www.allaboutombersley.com/whatson/smokey-dough-pizza-in-car-park-78
LOCATION:Ombersley Memorial Hall\, Ombersley Memorial Hall\, Sandys Road\, Ombersley\, WR9 0DY
CATEGORIES:Public Events
ORGANIZER;CN="Ombersley Memorial Hall":MAILTO:bookings@ombersleymemorialhall.co.uk
END:VEVENT
BEGIN:VEVENT
DTSTART;TZID=Europe/London:20260218T180000
DTEND;TZID=Europe/London:20260218T190000
DTSTAMP:20260419T201121
CREATED:20260116T171231Z
LAST-MODIFIED:20260218T121000Z
UID:10008524-1771437600-1771441200@www.allaboutombersley.com
SUMMARY:Yoga
DESCRIPTION:
URL:https://www.allaboutombersley.com/whatson/yoga-294
LOCATION:Ombersley Memorial Hall\, Ombersley Memorial Hall\, Sandys Road\, Ombersley\, WR9 0DY
CATEGORIES:Public Events
ORGANIZER;CN="Leah Starkey":MAILTO:leahrebeccayoga@gmail.com
END:VEVENT
BEGIN:VEVENT
DTSTART;TZID=Europe/London:20260218T180000
DTEND;TZID=Europe/London:20260218T200000
DTSTAMP:20260419T201121
CREATED:20251218T111137Z
LAST-MODIFIED:20260103T141119Z
UID:10008299-1771437600-1771444800@www.allaboutombersley.com
SUMMARY:Smokey Dough Pizza Van in car park
DESCRIPTION:
URL:https://www.allaboutombersley.com/whatson/smokey-dough-pizza-van-in-car-park-7
LOCATION:Ombersley Memorial Hall\, Ombersley Memorial Hall\, Sandys Road\, Ombersley\, WR9 0DY
CATEGORIES:Public Events
ORGANIZER;CN="Ombersley Memorial Hall":MAILTO:bookings@ombersleymemorialhall.co.uk
END:VEVENT
BEGIN:VEVENT
DTSTART;TZID=Europe/London:20260218T190000
DTEND;TZID=Europe/London:20260218T200000
DTSTAMP:20260419T201121
CREATED:20260116T171232Z
LAST-MODIFIED:20260215T112517Z
UID:10008525-1771441200-1771444800@www.allaboutombersley.com
SUMMARY:Dance Class
DESCRIPTION:
URL:https://www.allaboutombersley.com/whatson/dance-class-31
LOCATION:Ombersley Memorial Hall\, Ombersley Memorial Hall\, Sandys Road\, Ombersley\, WR9 0DY
CATEGORIES:Public Events
ORGANIZER;CN="Lois Press":MAILTO:Danceschool@entw9danceacademy.co.uk
END:VEVENT
BEGIN:VEVENT
DTSTART;TZID=Europe/London:20260219T090000
DTEND;TZID=Europe/London:20260219T130000
DTSTAMP:20260419T201121
CREATED:20260104T141300Z
LAST-MODIFIED:20260219T122509Z
UID:10008400-1771491600-1771506000@www.allaboutombersley.com
SUMMARY:Pilates
DESCRIPTION:
URL:https://www.allaboutombersley.com/whatson/pilates-684
LOCATION:Ombersley Memorial Hall\, Ombersley Memorial Hall\, Sandys Road\, Ombersley\, WR9 0DY
CATEGORIES:Public Events
ORGANIZER;CN="Ombersley Memorial Hall":MAILTO:bookings@ombersleymemorialhall.co.uk
END:VEVENT
BEGIN:VEVENT
DTSTART;TZID=Europe/London:20260219T140000
DTEND;TZID=Europe/London:20260219T160000
DTSTAMP:20260419T201121
CREATED:20251121T201247Z
LAST-MODIFIED:20260219T122509Z
UID:10008223-1771509600-1771516800@www.allaboutombersley.com
SUMMARY:Tea Shop
DESCRIPTION:
URL:https://www.allaboutombersley.com/whatson/tea-shop-56
LOCATION:Ombersley Memorial Hall\, Ombersley Memorial Hall\, Sandys Road\, Ombersley\, WR9 0DY
CATEGORIES:Own Hall Events
ORGANIZER;CN="Ombersley Memorial Hall":MAILTO:bookings@ombersleymemorialhall.co.uk
END:VEVENT
BEGIN:VEVENT
DTSTART;TZID=Europe/London:20260219T190000
DTEND;TZID=Europe/London:20260219T220000
DTSTAMP:20260419T201121
CREATED:20251220T114139Z
LAST-MODIFIED:20260219T122510Z
UID:10008311-1771527600-1771538400@www.allaboutombersley.com
SUMMARY:Ombersley Gardening Club
DESCRIPTION:
URL:https://www.allaboutombersley.com/whatson/ombersley-gardening-club-43
LOCATION:Ombersley Memorial Hall\, Ombersley Memorial Hall\, Sandys Road\, Ombersley\, WR9 0DY
CATEGORIES:Public Events
ORGANIZER;CN="Ombersley Memorial Hall":MAILTO:bookings@ombersleymemorialhall.co.uk
END:VEVENT
BEGIN:VEVENT
DTSTART;TZID=Europe/London:20260220T100000
DTEND;TZID=Europe/London:20260220T170000
DTSTAMP:20260419T201121
CREATED:20251122T202748Z
LAST-MODIFIED:20260220T123958Z
UID:10008225-1771581600-1771606800@www.allaboutombersley.com
SUMMARY:Friday Quilters
DESCRIPTION:
URL:https://www.allaboutombersley.com/whatson/friday-quilters-104
LOCATION:Ombersley Memorial Hall\, Ombersley Memorial Hall\, Sandys Road\, Ombersley\, WR9 0DY
CATEGORIES:Public Events
ORGANIZER;CN="Jane Fowler":MAILTO:Jfowler954@btinternet.com
END:VEVENT
BEGIN:VEVENT
DTSTART;TZID=Europe/London:20260220T183000
DTEND;TZID=Europe/London:20260220T220000
DTSTAMP:20260419T201121
CREATED:20251122T202748Z
LAST-MODIFIED:20260220T123959Z
UID:10008226-1771612200-1771624800@www.allaboutombersley.com
SUMMARY:WCBA
DESCRIPTION:
URL:https://www.allaboutombersley.com/whatson/wcba-31
LOCATION:Ombersley Memorial Hall\, Ombersley Memorial Hall\, Sandys Road\, Ombersley\, WR9 0DY
CATEGORIES:Public Events
ORGANIZER;CN="Ombersley Memorial Hall":MAILTO:bookings@ombersleymemorialhall.co.uk
END:VEVENT
BEGIN:VEVENT
DTSTART;VALUE=DATE:20260221
DTEND;VALUE=DATE:20260222
DTSTAMP:20260419T201121
CREATED:20260216T114015Z
LAST-MODIFIED:20260221T125459Z
UID:10008662-1771632000-1771718399@www.allaboutombersley.com
SUMMARY:Murder Mystery Set Up
DESCRIPTION:
URL:https://www.allaboutombersley.com/whatson/murder-mystery-set-up
LOCATION:Ombersley Memorial Hall\, Ombersley Memorial Hall\, Sandys Road\, Ombersley\, WR9 0DY
CATEGORIES:Own Hall Events
ORGANIZER;CN="Ombersley Memorial Hall":MAILTO:bookings@ombersleymemorialhall.co.uk
END:VEVENT
BEGIN:VEVENT
DTSTART;TZID=Europe/London:20260221T100000
DTEND;TZID=Europe/London:20260221T233000
DTSTAMP:20260419T201121
CREATED:20251123T204246Z
LAST-MODIFIED:20260124T191206Z
UID:10008228-1771668000-1771716600@www.allaboutombersley.com
SUMMARY:Hall Event
DESCRIPTION:
URL:https://www.allaboutombersley.com/whatson/hall-event-11
LOCATION:Ombersley Memorial Hall\, Ombersley Memorial Hall\, Sandys Road\, Ombersley\, WR9 0DY
CATEGORIES:Public Events
ORGANIZER;CN="Jane Fowler":MAILTO:Jfowler954@btinternet.com
END:VEVENT
BEGIN:VEVENT
DTSTART;TZID=Europe/London:20260221T190000
DTEND;TZID=Europe/London:20260221T230000
DTSTAMP:20260419T201121
CREATED:20260212T235534Z
LAST-MODIFIED:20260221T125459Z
UID:10008649-1771700400-1771714800@www.allaboutombersley.com
SUMMARY:Murder Mystery
DESCRIPTION:
URL:https://www.allaboutombersley.com/whatson/murder-mystery
LOCATION:Ombersley Memorial Hall\, Ombersley Memorial Hall\, Sandys Road\, Ombersley\, WR9 0DY
CATEGORIES:Own Hall Events,Public Events
ORGANIZER;CN="Ombersley Memorial Hall":MAILTO:bookings@ombersleymemorialhall.co.uk
END:VEVENT
BEGIN:VEVENT
DTSTART;TZID=Europe/London:20260222T090000
DTEND;TZID=Europe/London:20260222T130000
DTSTAMP:20260419T201121
CREATED:20260125T192709Z
LAST-MODIFIED:20260222T130957Z
UID:10008575-1771750800-1771765200@www.allaboutombersley.com
SUMMARY:Treacy Party
DESCRIPTION:
URL:https://www.allaboutombersley.com/whatson/treacy-party
LOCATION:Ombersley Memorial Hall\, Ombersley Memorial Hall\, Sandys Road\, Ombersley\, WR9 0DY
CATEGORIES:Private Events
ORGANIZER;CN="Ombersley Memorial Hall":MAILTO:bookings@ombersleymemorialhall.co.uk
END:VEVENT
BEGIN:VEVENT
DTSTART;TZID=Europe/London:20260223T093000
DTEND;TZID=Europe/London:20260223T103000
DTSTAMP:20260419T201121
CREATED:20260104T141302Z
LAST-MODIFIED:20260223T132501Z
UID:10008401-1771839000-1771842600@www.allaboutombersley.com
SUMMARY:Zumba
DESCRIPTION:
URL:https://www.allaboutombersley.com/whatson/zumba-234
LOCATION:Ombersley Memorial Hall\, Ombersley Memorial Hall\, Sandys Road\, Ombersley\, WR9 0DY
CATEGORIES:Public Events
ORGANIZER;CN="Ombersley Memorial Hall":MAILTO:bookings@ombersleymemorialhall.co.uk
END:VEVENT
BEGIN:VEVENT
DTSTART;TZID=Europe/London:20260223T113000
DTEND;TZID=Europe/London:20260223T123000
DTSTAMP:20260419T201121
CREATED:20260104T141303Z
LAST-MODIFIED:20260223T132501Z
UID:10008402-1771846200-1771849800@www.allaboutombersley.com
SUMMARY:Over 55s Dance Class
DESCRIPTION:
URL:https://www.allaboutombersley.com/whatson/over-55s-dance-class-180
LOCATION:Ombersley Memorial Hall\, Ombersley Memorial Hall\, Sandys Road\, Ombersley\, WR9 0DY
CATEGORIES:Public Events
ORGANIZER;CN="Ombersley Memorial Hall":MAILTO:bookings@ombersleymemorialhall.co.uk
END:VEVENT
BEGIN:VEVENT
DTSTART;TZID=Europe/London:20260223T133000
DTEND;TZID=Europe/London:20260223T143000
DTSTAMP:20260419T201121
CREATED:20260104T141304Z
LAST-MODIFIED:20260223T132501Z
UID:10008403-1771853400-1771857000@www.allaboutombersley.com
SUMMARY:Pilates
DESCRIPTION:
URL:https://www.allaboutombersley.com/whatson/pilates-685
LOCATION:Ombersley Memorial Hall\, Ombersley Memorial Hall\, Sandys Road\, Ombersley\, WR9 0DY
CATEGORIES:Public Events
ORGANIZER;CN="Ombersley Memorial Hall":MAILTO:bookings@ombersleymemorialhall.co.uk
END:VEVENT
BEGIN:VEVENT
DTSTART;TZID=Europe/London:20260223T180000
DTEND;TZID=Europe/London:20260223T190000
DTSTAMP:20260419T201121
CREATED:20260116T171247Z
LAST-MODIFIED:20260223T132501Z
UID:10008526-1771869600-1771873200@www.allaboutombersley.com
SUMMARY:Dance Class
DESCRIPTION:
URL:https://www.allaboutombersley.com/whatson/dance-class-32
LOCATION:Ombersley Memorial Hall\, Ombersley Memorial Hall\, Sandys Road\, Ombersley\, WR9 0DY
CATEGORIES:Public Events
ORGANIZER;CN="Lois Press":MAILTO:Danceschool@entw9danceacademy.co.uk
END:VEVENT
BEGIN:VEVENT
DTSTART;TZID=Europe/London:20260223T180000
DTEND;TZID=Europe/London:20260223T190000
DTSTAMP:20260419T201121
CREATED:20260104T141306Z
LAST-MODIFIED:20260202T212844Z
UID:10008404-1771869600-1771873200@www.allaboutombersley.com
SUMMARY:Dance Class
DESCRIPTION:
URL:https://www.allaboutombersley.com/whatson/dance-class-6
LOCATION:Ombersley Memorial Hall\, Ombersley Memorial Hall\, Sandys Road\, Ombersley\, WR9 0DY
CATEGORIES:Public Events
ORGANIZER;CN="Ombersley Memorial Hall":MAILTO:bookings@ombersleymemorialhall.co.uk
END:VEVENT
BEGIN:VEVENT
DTSTART;TZID=Europe/London:20260223T200000
DTEND;TZID=Europe/London:20260223T210000
DTSTAMP:20260419T201121
CREATED:20251125T211244Z
LAST-MODIFIED:20260223T132501Z
UID:10008231-1771876800-1771880400@www.allaboutombersley.com
SUMMARY:Boot Camp
DESCRIPTION:
URL:https://www.allaboutombersley.com/whatson/boot-camp-238
LOCATION:Ombersley Memorial Hall\, Ombersley Memorial Hall\, Sandys Road\, Ombersley\, WR9 0DY
CATEGORIES:Public Events
ORGANIZER;CN="Ombersley Memorial Hall":MAILTO:bookings@ombersleymemorialhall.co.uk
END:VEVENT
BEGIN:VEVENT
DTSTART;TZID=Europe/London:20260224T090000
DTEND;TZID=Europe/London:20260224T120000
DTSTAMP:20260419T201121
CREATED:20260104T141319Z
LAST-MODIFIED:20260224T134004Z
UID:10008405-1771923600-1771934400@www.allaboutombersley.com
SUMMARY:Pilates
DESCRIPTION:
URL:https://www.allaboutombersley.com/whatson/pilates-686
LOCATION:Ombersley Memorial Hall\, Ombersley Memorial Hall\, Sandys Road\, Ombersley\, WR9 0DY
CATEGORIES:Public Events
ORGANIZER;CN="Ombersley Memorial Hall":MAILTO:bookings@ombersleymemorialhall.co.uk
END:VEVENT
BEGIN:VEVENT
DTSTART;TZID=Europe/London:20260224T190000
DTEND;TZID=Europe/London:20260224T220000
DTSTAMP:20260419T201121
CREATED:20260104T141320Z
LAST-MODIFIED:20260224T134004Z
UID:10008406-1771959600-1771970400@www.allaboutombersley.com
SUMMARY:Voices Unlimited
DESCRIPTION:
URL:https://www.allaboutombersley.com/whatson/voices-unlimited-206
LOCATION:Ombersley Memorial Hall\, Ombersley Memorial Hall\, Sandys Road\, Ombersley\, WR9 0DY
CATEGORIES:Public Events
ORGANIZER;CN="Ombersley Memorial Hall":MAILTO:bookings@ombersleymemorialhall.co.uk
END:VEVENT
BEGIN:VEVENT
DTSTART;TZID=Europe/London:20260225T070000
DTEND;TZID=Europe/London:20260225T200000
DTSTAMP:20260419T201121
CREATED:20260106T144251Z
LAST-MODIFIED:20260202T212845Z
UID:10008461-1772002800-1772049600@www.allaboutombersley.com
SUMMARY:Dance Class
DESCRIPTION:
URL:https://www.allaboutombersley.com/whatson/dance-class-17
LOCATION:Ombersley Memorial Hall\, Ombersley Memorial Hall\, Sandys Road\, Ombersley\, WR9 0DY
CATEGORIES:Public Events
ORGANIZER;CN="Ombersley Memorial Hall":MAILTO:bookings@ombersleymemorialhall.co.uk
END:VEVENT
BEGIN:VEVENT
DTSTART;TZID=Europe/London:20260225T100000
DTEND;TZID=Europe/London:20260225T110000
DTSTAMP:20260419T201121
CREATED:20251127T212734Z
LAST-MODIFIED:20260225T135502Z
UID:10008237-1772013600-1772017200@www.allaboutombersley.com
SUMMARY:Fitness Class
DESCRIPTION:
URL:https://www.allaboutombersley.com/whatson/sweaty-mama-231
LOCATION:Ombersley Memorial Hall\, Ombersley Memorial Hall\, Sandys Road\, Ombersley\, WR9 0DY
CATEGORIES:Public Events
ORGANIZER;CN="Rachel Aslam":MAILTO:Rachelaslam@sweatymama.com
END:VEVENT
BEGIN:VEVENT
DTSTART;TZID=Europe/London:20260225T100000
DTEND;TZID=Europe/London:20260225T120000
DTSTAMP:20260419T201121
CREATED:20251127T212734Z
LAST-MODIFIED:20260225T135502Z
UID:10008238-1772013600-1772020800@www.allaboutombersley.com
SUMMARY:JAG
DESCRIPTION:
URL:https://www.allaboutombersley.com/whatson/jag-8
LOCATION:Ombersley Memorial Hall\, Ombersley Memorial Hall\, Sandys Road\, Ombersley\, WR9 0DY
CATEGORIES:Public Events
ORGANIZER;CN="Ombersley Memorial Hall":MAILTO:bookings@ombersleymemorialhall.co.uk
END:VEVENT
BEGIN:VEVENT
DTSTART;TZID=Europe/London:20260225T170000
DTEND;TZID=Europe/London:20260225T200000
DTSTAMP:20260419T201121
CREATED:20251127T212734Z
LAST-MODIFIED:20260225T135502Z
UID:10008239-1772038800-1772049600@www.allaboutombersley.com
SUMMARY:Smokey Dough Pizza in car park
DESCRIPTION:
URL:https://www.allaboutombersley.com/whatson/smokey-dough-pizza-in-car-park-79
LOCATION:Ombersley Memorial Hall\, Ombersley Memorial Hall\, Sandys Road\, Ombersley\, WR9 0DY
CATEGORIES:Public Events
ORGANIZER;CN="Ombersley Memorial Hall":MAILTO:bookings@ombersleymemorialhall.co.uk
END:VEVENT
BEGIN:VEVENT
DTSTART;TZID=Europe/London:20260225T180000
DTEND;TZID=Europe/London:20260225T190000
DTSTAMP:20260419T201121
CREATED:20260116T171301Z
LAST-MODIFIED:20260225T135503Z
UID:10008527-1772042400-1772046000@www.allaboutombersley.com
SUMMARY:Yoga
DESCRIPTION:
URL:https://www.allaboutombersley.com/whatson/yoga-295
LOCATION:Ombersley Memorial Hall\, Ombersley Memorial Hall\, Sandys Road\, Ombersley\, WR9 0DY
CATEGORIES:Public Events
ORGANIZER;CN="Leah Starkey":MAILTO:leahrebeccayoga@gmail.com
END:VEVENT
BEGIN:VEVENT
DTSTART;TZID=Europe/London:20260225T180000
DTEND;TZID=Europe/London:20260225T200000
DTSTAMP:20260419T201121
CREATED:20251218T111150Z
LAST-MODIFIED:20260103T141132Z
UID:10008300-1772042400-1772049600@www.allaboutombersley.com
SUMMARY:Smokey Dough Pizza Van in car park
DESCRIPTION:
URL:https://www.allaboutombersley.com/whatson/smokey-dough-pizza-van-in-car-park-8
LOCATION:Ombersley Memorial Hall\, Ombersley Memorial Hall\, Sandys Road\, Ombersley\, WR9 0DY
CATEGORIES:Public Events
ORGANIZER;CN="Ombersley Memorial Hall":MAILTO:bookings@ombersleymemorialhall.co.uk
END:VEVENT
BEGIN:VEVENT
DTSTART;TZID=Europe/London:20260225T190000
DTEND;TZID=Europe/London:20260225T200000
DTSTAMP:20260419T201121
CREATED:20260116T171302Z
LAST-MODIFIED:20260225T135503Z
UID:10008528-1772046000-1772049600@www.allaboutombersley.com
SUMMARY:Dance Class
DESCRIPTION:
URL:https://www.allaboutombersley.com/whatson/dance-class-33
LOCATION:Ombersley Memorial Hall\, Ombersley Memorial Hall\, Sandys Road\, Ombersley\, WR9 0DY
CATEGORIES:Public Events
ORGANIZER;CN="Lois Press":MAILTO:Danceschool@entw9danceacademy.co.uk
END:VEVENT
BEGIN:VEVENT
DTSTART;TZID=Europe/London:20260226T090000
DTEND;TZID=Europe/London:20260226T130000
DTSTAMP:20260419T201121
CREATED:20260104T141321Z
LAST-MODIFIED:20260226T135553Z
UID:10008407-1772096400-1772110800@www.allaboutombersley.com
SUMMARY:Pilates
DESCRIPTION:
URL:https://www.allaboutombersley.com/whatson/pilates-687
LOCATION:Ombersley Memorial Hall\, Ombersley Memorial Hall\, Sandys Road\, Ombersley\, WR9 0DY
CATEGORIES:Public Events
ORGANIZER;CN="Ombersley Memorial Hall":MAILTO:bookings@ombersleymemorialhall.co.uk
END:VEVENT
END:VCALENDAR