BEGIN:VCALENDAR
VERSION:2.0
PRODID:-//All About Ombersley &amp; Doverdale - ECPv6.15.20//NONSGML v1.0//EN
CALSCALE:GREGORIAN
METHOD:PUBLISH
X-ORIGINAL-URL:https://www.allaboutombersley.com
X-WR-CALDESC:Events for All About Ombersley &amp; Doverdale
REFRESH-INTERVAL;VALUE=DURATION:PT1H
X-Robots-Tag:noindex
X-PUBLISHED-TTL:PT1H
BEGIN:VTIMEZONE
TZID:Europe/London
BEGIN:DAYLIGHT
TZOFFSETFROM:+0000
TZOFFSETTO:+0100
TZNAME:BST
DTSTART:20250330T010000
END:DAYLIGHT
BEGIN:STANDARD
TZOFFSETFROM:+0100
TZOFFSETTO:+0000
TZNAME:GMT
DTSTART:20251026T010000
END:STANDARD
BEGIN:DAYLIGHT
TZOFFSETFROM:+0000
TZOFFSETTO:+0100
TZNAME:BST
DTSTART:20260329T010000
END:DAYLIGHT
BEGIN:STANDARD
TZOFFSETFROM:+0100
TZOFFSETTO:+0000
TZNAME:GMT
DTSTART:20261025T010000
END:STANDARD
BEGIN:DAYLIGHT
TZOFFSETFROM:+0000
TZOFFSETTO:+0100
TZNAME:BST
DTSTART:20270328T010000
END:DAYLIGHT
BEGIN:STANDARD
TZOFFSETFROM:+0100
TZOFFSETTO:+0000
TZNAME:GMT
DTSTART:20271031T010000
END:STANDARD
END:VTIMEZONE
BEGIN:VEVENT
DTSTART;TZID=Europe/London:20260422T100000
DTEND;TZID=Europe/London:20260422T113000
DTSTAMP:20260419T185817
CREATED:20210817T145046Z
LAST-MODIFIED:20210817T145046Z
UID:10006499-1776852000-1776857400@www.allaboutombersley.com
SUMMARY:Ombersley Social Strollers
DESCRIPTION:Starting Wednesday 1st September we will be running the weekly health walks for anyone who fancies a gentle stroll and chat with refreshments afterwards. We meet just before 10am at the Lych Gate of St Andrews Church in the village and walk as a group for about 45 minutes returning to the church for hot drinks\, biscuits and a chat. All walks are tailored to the abilities of the group and there is always the opportunity for anyone to return to the church early with a leader. We welcome anyone to join us\, just turn up or contact Peter Reynolds on 07855 441804 to learn more
URL:https://www.allaboutombersley.com/whatson/ombersley-social-strollers/2026-04-22
LOCATION:St Andrew’s Church\, Ombersley\, St Andrew's Church\, Main Road\, Ombersley\, Ombersley\, WR9 0EP
ATTACH;FMTTYPE=image/jpeg:https://www.allaboutombersley.com/wp-content/uploads/2021/08/39af4eae-bb27-479b-b9e2-88d2c3752080.jpg
END:VEVENT
END:VCALENDAR