BEGIN:VCALENDAR
VERSION:2.0
PRODID:-//All About Ombersley &amp; Doverdale - ECPv6.15.20//NONSGML v1.0//EN
CALSCALE:GREGORIAN
METHOD:PUBLISH
X-ORIGINAL-URL:https://www.allaboutombersley.com
X-WR-CALDESC:Events for All About Ombersley &amp; Doverdale
REFRESH-INTERVAL;VALUE=DURATION:PT1H
X-Robots-Tag:noindex
X-PUBLISHED-TTL:PT1H
BEGIN:VTIMEZONE
TZID:Europe/London
BEGIN:DAYLIGHT
TZOFFSETFROM:+0000
TZOFFSETTO:+0100
TZNAME:BST
DTSTART:20240331T010000
END:DAYLIGHT
BEGIN:STANDARD
TZOFFSETFROM:+0100
TZOFFSETTO:+0000
TZNAME:GMT
DTSTART:20241027T010000
END:STANDARD
BEGIN:DAYLIGHT
TZOFFSETFROM:+0000
TZOFFSETTO:+0100
TZNAME:BST
DTSTART:20250330T010000
END:DAYLIGHT
BEGIN:STANDARD
TZOFFSETFROM:+0100
TZOFFSETTO:+0000
TZNAME:GMT
DTSTART:20251026T010000
END:STANDARD
BEGIN:DAYLIGHT
TZOFFSETFROM:+0000
TZOFFSETTO:+0100
TZNAME:BST
DTSTART:20260329T010000
END:DAYLIGHT
BEGIN:STANDARD
TZOFFSETFROM:+0100
TZOFFSETTO:+0000
TZNAME:GMT
DTSTART:20261025T010000
END:STANDARD
END:VTIMEZONE
BEGIN:VEVENT
DTSTART;TZID=Europe/London:20251126T100000
DTEND;TZID=Europe/London:20251126T110000
DTSTAMP:20260420T021732
CREATED:20250828T144604Z
LAST-MODIFIED:20251126T210956Z
UID:10007969-1764151200-1764154800@www.allaboutombersley.com
SUMMARY:Sweaty Mama
DESCRIPTION:
URL:https://www.allaboutombersley.com/whatson/sweaty-mama-218
LOCATION:Ombersley Memorial Hall\, Ombersley Memorial Hall\, Sandys Road\, Ombersley\, WR9 0DY
CATEGORIES:Public Events
ORGANIZER;CN="Rachel Aslam":MAILTO:Rachelaslam@sweatymama.com
END:VEVENT
BEGIN:VEVENT
DTSTART;TZID=Europe/London:20251119T100000
DTEND;TZID=Europe/London:20251119T110000
DTSTAMP:20260420T021732
CREATED:20250821T130014Z
LAST-MODIFIED:20251119T193956Z
UID:10007943-1763546400-1763550000@www.allaboutombersley.com
SUMMARY:Sweaty Mama
DESCRIPTION:
URL:https://www.allaboutombersley.com/whatson/sweaty-mama-217
LOCATION:Ombersley Memorial Hall\, Ombersley Memorial Hall\, Sandys Road\, Ombersley\, WR9 0DY
CATEGORIES:Public Events
ORGANIZER;CN="Rachel Aslam":MAILTO:Rachelaslam@sweatymama.com
END:VEVENT
BEGIN:VEVENT
DTSTART;TZID=Europe/London:20251112T100000
DTEND;TZID=Europe/London:20251112T110000
DTSTAMP:20260420T021732
CREATED:20250814T111523Z
LAST-MODIFIED:20251112T180959Z
UID:10007914-1762941600-1762945200@www.allaboutombersley.com
SUMMARY:Sweaty Mama
DESCRIPTION:
URL:https://www.allaboutombersley.com/whatson/sweaty-mama-216
LOCATION:Ombersley Memorial Hall\, Ombersley Memorial Hall\, Sandys Road\, Ombersley\, WR9 0DY
CATEGORIES:Public Events
ORGANIZER;CN="Rachel Aslam":MAILTO:Rachelaslam@sweatymama.com
END:VEVENT
BEGIN:VEVENT
DTSTART;TZID=Europe/London:20251105T100000
DTEND;TZID=Europe/London:20251105T110000
DTSTAMP:20260420T021733
CREATED:20250807T224553Z
LAST-MODIFIED:20251105T172457Z
UID:10007886-1762336800-1762340400@www.allaboutombersley.com
SUMMARY:Sweaty Mama
DESCRIPTION:
URL:https://www.allaboutombersley.com/whatson/sweaty-mama-215
LOCATION:Ombersley Memorial Hall\, Ombersley Memorial Hall\, Sandys Road\, Ombersley\, WR9 0DY
CATEGORIES:Public Events
ORGANIZER;CN="Rachel Aslam":MAILTO:Rachelaslam@sweatymama.com
END:VEVENT
BEGIN:VEVENT
DTSTART;TZID=Europe/London:20251029T100000
DTEND;TZID=Europe/London:20251029T110000
DTSTAMP:20260420T021733
CREATED:20250731T210147Z
LAST-MODIFIED:20251029T160957Z
UID:10007861-1761732000-1761735600@www.allaboutombersley.com
SUMMARY:Sweaty Mama
DESCRIPTION:
URL:https://www.allaboutombersley.com/whatson/sweaty-mama-214
LOCATION:Ombersley Memorial Hall\, Ombersley Memorial Hall\, Sandys Road\, Ombersley\, WR9 0DY
CATEGORIES:Public Events
ORGANIZER;CN="Rachel Aslam":MAILTO:Rachelaslam@sweatymama.com
END:VEVENT
BEGIN:VEVENT
DTSTART;TZID=Europe/London:20251022T100000
DTEND;TZID=Europe/London:20251022T110000
DTSTAMP:20260420T021733
CREATED:20250724T191238Z
LAST-MODIFIED:20251022T145503Z
UID:10007834-1761127200-1761130800@www.allaboutombersley.com
SUMMARY:Sweaty Mama
DESCRIPTION:
URL:https://www.allaboutombersley.com/whatson/sweaty-mama-213
LOCATION:Ombersley Memorial Hall\, Ombersley Memorial Hall\, Sandys Road\, Ombersley\, WR9 0DY
CATEGORIES:Public Events
ORGANIZER;CN="Rachel Aslam":MAILTO:Rachelaslam@sweatymama.com
END:VEVENT
END:VCALENDAR