BEGIN:VCALENDAR
VERSION:2.0
PRODID:-//All About Ombersley &amp; Doverdale - ECPv6.15.20//NONSGML v1.0//EN
CALSCALE:GREGORIAN
METHOD:PUBLISH
X-ORIGINAL-URL:https://www.allaboutombersley.com
X-WR-CALDESC:Events for All About Ombersley &amp; Doverdale
REFRESH-INTERVAL;VALUE=DURATION:PT1H
X-Robots-Tag:noindex
X-PUBLISHED-TTL:PT1H
BEGIN:VTIMEZONE
TZID:Europe/London
BEGIN:DAYLIGHT
TZOFFSETFROM:+0000
TZOFFSETTO:+0100
TZNAME:BST
DTSTART:20240331T010000
END:DAYLIGHT
BEGIN:STANDARD
TZOFFSETFROM:+0100
TZOFFSETTO:+0000
TZNAME:GMT
DTSTART:20241027T010000
END:STANDARD
BEGIN:DAYLIGHT
TZOFFSETFROM:+0000
TZOFFSETTO:+0100
TZNAME:BST
DTSTART:20250330T010000
END:DAYLIGHT
BEGIN:STANDARD
TZOFFSETFROM:+0100
TZOFFSETTO:+0000
TZNAME:GMT
DTSTART:20251026T010000
END:STANDARD
BEGIN:DAYLIGHT
TZOFFSETFROM:+0000
TZOFFSETTO:+0100
TZNAME:BST
DTSTART:20260329T010000
END:DAYLIGHT
BEGIN:STANDARD
TZOFFSETFROM:+0100
TZOFFSETTO:+0000
TZNAME:GMT
DTSTART:20261025T010000
END:STANDARD
END:VTIMEZONE
BEGIN:VEVENT
DTSTART;TZID=Europe/London:20251215T133000
DTEND;TZID=Europe/London:20251215T143000
DTSTAMP:20260421T130115
CREATED:20250916T193059Z
LAST-MODIFIED:20251215T235455Z
UID:10008048-1765805400-1765809000@www.allaboutombersley.com
SUMMARY:Pilates
DESCRIPTION:
URL:https://www.allaboutombersley.com/whatson/pilates-661
LOCATION:Ombersley Memorial Hall\, Ombersley Memorial Hall\, Sandys Road\, Ombersley\, WR9 0DY
CATEGORIES:Public Events
ORGANIZER;CN="Penni":MAILTO:penniphysio@icloud.com
END:VEVENT
BEGIN:VEVENT
DTSTART;TZID=Europe/London:20251208T133000
DTEND;TZID=Europe/London:20251208T143000
DTSTAMP:20260421T130115
CREATED:20250909T174656Z
LAST-MODIFIED:20251208T230955Z
UID:10008021-1765200600-1765204200@www.allaboutombersley.com
SUMMARY:Pilates
DESCRIPTION:
URL:https://www.allaboutombersley.com/whatson/pilates-658
LOCATION:Ombersley Memorial Hall\, Ombersley Memorial Hall\, Sandys Road\, Ombersley\, WR9 0DY
CATEGORIES:Public Events
ORGANIZER;CN="Penni":MAILTO:penniphysio@icloud.com
END:VEVENT
BEGIN:VEVENT
DTSTART;TZID=Europe/London:20251201T133000
DTEND;TZID=Europe/London:20251201T143000
DTSTAMP:20260421T130115
CREATED:20250902T160036Z
LAST-MODIFIED:20251201T215456Z
UID:10007983-1764595800-1764599400@www.allaboutombersley.com
SUMMARY:Pilates
DESCRIPTION:
URL:https://www.allaboutombersley.com/whatson/pilates-655
LOCATION:Ombersley Memorial Hall\, Ombersley Memorial Hall\, Sandys Road\, Ombersley\, WR9 0DY
CATEGORIES:Public Events
ORGANIZER;CN="Penni":MAILTO:penniphysio@icloud.com
END:VEVENT
BEGIN:VEVENT
DTSTART;TZID=Europe/London:20251124T133000
DTEND;TZID=Europe/London:20251124T143000
DTSTAMP:20260421T130115
CREATED:20250826T141522Z
LAST-MODIFIED:20251124T205457Z
UID:10007962-1763991000-1763994600@www.allaboutombersley.com
SUMMARY:Pilates
DESCRIPTION:
URL:https://www.allaboutombersley.com/whatson/pilates-652
LOCATION:Ombersley Memorial Hall\, Ombersley Memorial Hall\, Sandys Road\, Ombersley\, WR9 0DY
CATEGORIES:Public Events
ORGANIZER;CN="Penni":MAILTO:penniphysio@icloud.com
END:VEVENT
BEGIN:VEVENT
DTSTART;TZID=Europe/London:20251117T133000
DTEND;TZID=Europe/London:20251117T143000
DTSTAMP:20260421T130115
CREATED:20250819T123107Z
LAST-MODIFIED:20251117T190958Z
UID:10007935-1763386200-1763389800@www.allaboutombersley.com
SUMMARY:Pilates
DESCRIPTION:
URL:https://www.allaboutombersley.com/whatson/pilates-649
LOCATION:Ombersley Memorial Hall\, Ombersley Memorial Hall\, Sandys Road\, Ombersley\, WR9 0DY
CATEGORIES:Public Events
ORGANIZER;CN="Penni":MAILTO:penniphysio@icloud.com
END:VEVENT
BEGIN:VEVENT
DTSTART;TZID=Europe/London:20251110T133000
DTEND;TZID=Europe/London:20251110T143000
DTSTAMP:20260421T130115
CREATED:20250813T000015Z
LAST-MODIFIED:20251110T175455Z
UID:10007908-1762781400-1762785000@www.allaboutombersley.com
SUMMARY:Pilates
DESCRIPTION:
URL:https://www.allaboutombersley.com/whatson/pilates-646
LOCATION:Ombersley Memorial Hall\, Ombersley Memorial Hall\, Sandys Road\, Ombersley\, WR9 0DY
CATEGORIES:Public Events
ORGANIZER;CN="Penni":MAILTO:penniphysio@icloud.com
END:VEVENT
BEGIN:VEVENT
DTSTART;TZID=Europe/London:20251103T133000
DTEND;TZID=Europe/London:20251103T143000
DTSTAMP:20260421T130115
CREATED:20250805T221528Z
LAST-MODIFIED:20251103T165455Z
UID:10007877-1762176600-1762180200@www.allaboutombersley.com
SUMMARY:Pilates
DESCRIPTION:
URL:https://www.allaboutombersley.com/whatson/pilates-643
LOCATION:Ombersley Memorial Hall\, Ombersley Memorial Hall\, Sandys Road\, Ombersley\, WR9 0DY
CATEGORIES:Public Events
ORGANIZER;CN="Penni":MAILTO:penniphysio@icloud.com
END:VEVENT
BEGIN:VEVENT
DTSTART;TZID=Europe/London:20251027T133000
DTEND;TZID=Europe/London:20251027T143000
DTSTAMP:20260421T130115
CREATED:20250729T203023Z
LAST-MODIFIED:20250903T161322Z
UID:10007854-1761571800-1761575400@www.allaboutombersley.com
SUMMARY:Pilates
DESCRIPTION:
URL:https://www.allaboutombersley.com/whatson/pilates-640
LOCATION:Ombersley Memorial Hall\, Ombersley Memorial Hall\, Sandys Road\, Ombersley\, WR9 0DY
CATEGORIES:Public Events
ORGANIZER;CN="Penni":MAILTO:penniphysio@icloud.com
END:VEVENT
END:VCALENDAR