BEGIN:VCALENDAR
VERSION:2.0
PRODID:-//All About Ombersley &amp; Doverdale - ECPv6.15.20//NONSGML v1.0//EN
CALSCALE:GREGORIAN
METHOD:PUBLISH
X-WR-CALNAME:All About Ombersley &amp; Doverdale
X-ORIGINAL-URL:https://www.allaboutombersley.com
X-WR-CALDESC:Events for All About Ombersley &amp; Doverdale
REFRESH-INTERVAL;VALUE=DURATION:PT1H
X-Robots-Tag:noindex
X-PUBLISHED-TTL:PT1H
BEGIN:VTIMEZONE
TZID:Europe/London
BEGIN:DAYLIGHT
TZOFFSETFROM:+0000
TZOFFSETTO:+0100
TZNAME:BST
DTSTART:20250330T010000
END:DAYLIGHT
BEGIN:STANDARD
TZOFFSETFROM:+0100
TZOFFSETTO:+0000
TZNAME:GMT
DTSTART:20251026T010000
END:STANDARD
BEGIN:DAYLIGHT
TZOFFSETFROM:+0000
TZOFFSETTO:+0100
TZNAME:BST
DTSTART:20260329T010000
END:DAYLIGHT
BEGIN:STANDARD
TZOFFSETFROM:+0100
TZOFFSETTO:+0000
TZNAME:GMT
DTSTART:20261025T010000
END:STANDARD
BEGIN:DAYLIGHT
TZOFFSETFROM:+0000
TZOFFSETTO:+0100
TZNAME:BST
DTSTART:20270328T010000
END:DAYLIGHT
BEGIN:STANDARD
TZOFFSETFROM:+0100
TZOFFSETTO:+0000
TZNAME:GMT
DTSTART:20271031T010000
END:STANDARD
END:VTIMEZONE
BEGIN:VEVENT
DTSTART;TZID=Europe/London:20260305T193000
DTEND;TZID=Europe/London:20260305T213000
DTSTAMP:20260419T184947
CREATED:20251205T224243Z
LAST-MODIFIED:20260305T154000Z
UID:10008262-1772739000-1772746200@www.allaboutombersley.com
SUMMARY:OWL
DESCRIPTION:
URL:https://www.allaboutombersley.com/whatson/owl-50
LOCATION:Ombersley Memorial Hall\, Ombersley Memorial Hall\, Sandys Road\, Ombersley\, WR9 0DY
CATEGORIES:Public Events
ORGANIZER;CN="Ombersley Memorial Hall":MAILTO:bookings@ombersleymemorialhall.co.uk
END:VEVENT
BEGIN:VEVENT
DTSTART;TZID=Europe/London:20260305T090000
DTEND;TZID=Europe/London:20260305T130000
DTSTAMP:20260419T184947
CREATED:20260104T141355Z
LAST-MODIFIED:20260305T154000Z
UID:10008415-1772701200-1772715600@www.allaboutombersley.com
SUMMARY:Pilates
DESCRIPTION:
URL:https://www.allaboutombersley.com/whatson/pilates-690
LOCATION:Ombersley Memorial Hall\, Ombersley Memorial Hall\, Sandys Road\, Ombersley\, WR9 0DY
CATEGORIES:Public Events
ORGANIZER;CN="Ombersley Memorial Hall":MAILTO:bookings@ombersleymemorialhall.co.uk
END:VEVENT
BEGIN:VEVENT
DTSTART;TZID=Europe/London:20260304T180000
DTEND;TZID=Europe/London:20260304T200000
DTSTAMP:20260419T184947
CREATED:20251218T111204Z
LAST-MODIFIED:20260103T141145Z
UID:10008301-1772647200-1772654400@www.allaboutombersley.com
SUMMARY:Smokey Dough Pizza Van in car park
DESCRIPTION:
URL:https://www.allaboutombersley.com/whatson/smokey-dough-pizza-van-in-car-park-9
LOCATION:Ombersley Memorial Hall\, Ombersley Memorial Hall\, Sandys Road\, Ombersley\, WR9 0DY
CATEGORIES:Public Events
ORGANIZER;CN="Ombersley Memorial Hall":MAILTO:bookings@ombersleymemorialhall.co.uk
END:VEVENT
BEGIN:VEVENT
DTSTART;TZID=Europe/London:20260304T170000
DTEND;TZID=Europe/London:20260304T200000
DTSTAMP:20260419T184947
CREATED:20251204T222735Z
LAST-MODIFIED:20260304T152502Z
UID:10008260-1772643600-1772654400@www.allaboutombersley.com
SUMMARY:Smokey Dough Pizza in car park
DESCRIPTION:
URL:https://www.allaboutombersley.com/whatson/smokey-dough-pizza-in-car-park-80
LOCATION:Ombersley Memorial Hall\, Ombersley Memorial Hall\, Sandys Road\, Ombersley\, WR9 0DY
CATEGORIES:Public Events
ORGANIZER;CN="Ombersley Memorial Hall":MAILTO:bookings@ombersleymemorialhall.co.uk
END:VEVENT
BEGIN:VEVENT
DTSTART;TZID=Europe/London:20260304T140000
DTEND;TZID=Europe/London:20260304T143000
DTSTAMP:20260419T184947
CREATED:20260203T214153Z
LAST-MODIFIED:20260304T152502Z
UID:10008604-1772632800-1772634600@www.allaboutombersley.com
SUMMARY:Hall Viewing
DESCRIPTION:
URL:https://www.allaboutombersley.com/whatson/hall-viewing-69
LOCATION:Ombersley Memorial Hall\, Ombersley Memorial Hall\, Sandys Road\, Ombersley\, WR9 0DY
CATEGORIES:Viewings
ORGANIZER;CN="Ombersley Memorial Hall":MAILTO:bookings@ombersleymemorialhall.co.uk
END:VEVENT
BEGIN:VEVENT
DTSTART;TZID=Europe/London:20260304T130000
DTEND;TZID=Europe/London:20260304T170000
DTSTAMP:20260419T184947
CREATED:20260104T141354Z
LAST-MODIFIED:20260304T152502Z
UID:10008414-1772629200-1772643600@www.allaboutombersley.com
SUMMARY:Bridge
DESCRIPTION:
URL:https://www.allaboutombersley.com/whatson/bridge-67
LOCATION:Ombersley Memorial Hall\, Ombersley Memorial Hall\, Sandys Road\, Ombersley\, WR9 0DY
CATEGORIES:Public Events
ORGANIZER;CN="Ombersley Memorial Hall":MAILTO:bookings@ombersleymemorialhall.co.uk
END:VEVENT
BEGIN:VEVENT
DTSTART;TZID=Europe/London:20260304T100000
DTEND;TZID=Europe/London:20260304T120000
DTSTAMP:20260419T184947
CREATED:20251204T222735Z
LAST-MODIFIED:20260304T152501Z
UID:10008259-1772618400-1772625600@www.allaboutombersley.com
SUMMARY:JAG
DESCRIPTION:
URL:https://www.allaboutombersley.com/whatson/jag-9
LOCATION:Ombersley Memorial Hall\, Ombersley Memorial Hall\, Sandys Road\, Ombersley\, WR9 0DY
CATEGORIES:Public Events
ORGANIZER;CN="Ombersley Memorial Hall":MAILTO:bookings@ombersleymemorialhall.co.uk
END:VEVENT
BEGIN:VEVENT
DTSTART;TZID=Europe/London:20260304T070000
DTEND;TZID=Europe/London:20260304T200000
DTSTAMP:20260419T184947
CREATED:20260106T144321Z
LAST-MODIFIED:20260202T212927Z
UID:10008462-1772607600-1772654400@www.allaboutombersley.com
SUMMARY:Dance Class
DESCRIPTION:
URL:https://www.allaboutombersley.com/whatson/dance-class-18
LOCATION:Ombersley Memorial Hall\, Ombersley Memorial Hall\, Sandys Road\, Ombersley\, WR9 0DY
CATEGORIES:Public Events
ORGANIZER;CN="Ombersley Memorial Hall":MAILTO:bookings@ombersleymemorialhall.co.uk
END:VEVENT
BEGIN:VEVENT
DTSTART;TZID=Europe/London:20260303T190000
DTEND;TZID=Europe/London:20260303T220000
DTSTAMP:20260419T184947
CREATED:20260104T141341Z
LAST-MODIFIED:20260108T151301Z
UID:10008413-1772564400-1772575200@www.allaboutombersley.com
SUMMARY:Voices Unlimited
DESCRIPTION:
URL:https://www.allaboutombersley.com/whatson/voices-unlimited-207
LOCATION:Ombersley Memorial Hall\, Ombersley Memorial Hall\, Sandys Road\, Ombersley\, WR9 0DY
CATEGORIES:Public Events
ORGANIZER;CN="Ombersley Memorial Hall":MAILTO:bookings@ombersleymemorialhall.co.uk
END:VEVENT
BEGIN:VEVENT
DTSTART;TZID=Europe/London:20260303T140000
DTEND;TZID=Europe/London:20260303T160000
DTSTAMP:20260419T184947
CREATED:20251203T221224Z
LAST-MODIFIED:20260303T151000Z
UID:10008256-1772546400-1772553600@www.allaboutombersley.com
SUMMARY:Tea Shop
DESCRIPTION:
URL:https://www.allaboutombersley.com/whatson/tea-shop-58
LOCATION:Ombersley Memorial Hall\, Ombersley Memorial Hall\, Sandys Road\, Ombersley\, WR9 0DY
CATEGORIES:Own Hall Events
ORGANIZER;CN="Ombersley Memorial Hall":MAILTO:bookings@ombersleymemorialhall.co.uk
END:VEVENT
BEGIN:VEVENT
DTSTART;TZID=Europe/London:20260303T090000
DTEND;TZID=Europe/London:20260303T120000
DTSTAMP:20260419T184947
CREATED:20260104T141340Z
LAST-MODIFIED:20260303T151000Z
UID:10008412-1772528400-1772539200@www.allaboutombersley.com
SUMMARY:Pilates
DESCRIPTION:
URL:https://www.allaboutombersley.com/whatson/pilates-689
LOCATION:Ombersley Memorial Hall\, Ombersley Memorial Hall\, Sandys Road\, Ombersley\, WR9 0DY
CATEGORIES:Public Events
ORGANIZER;CN="Ombersley Memorial Hall":MAILTO:bookings@ombersleymemorialhall.co.uk
END:VEVENT
BEGIN:VEVENT
DTSTART;TZID=Europe/London:20260302T200000
DTEND;TZID=Europe/London:20260302T210000
DTSTAMP:20260419T184947
CREATED:20251202T221225Z
LAST-MODIFIED:20260302T145500Z
UID:10008250-1772481600-1772485200@www.allaboutombersley.com
SUMMARY:Boot Camp
DESCRIPTION:
URL:https://www.allaboutombersley.com/whatson/boot-camp-239
LOCATION:Ombersley Memorial Hall\, Ombersley Memorial Hall\, Sandys Road\, Ombersley\, WR9 0DY
CATEGORIES:Public Events
ORGANIZER;CN="Ombersley Memorial Hall":MAILTO:bookings@ombersleymemorialhall.co.uk
END:VEVENT
BEGIN:VEVENT
DTSTART;TZID=Europe/London:20260302T180000
DTEND;TZID=Europe/London:20260302T190000
DTSTAMP:20260419T184947
CREATED:20260104T141339Z
LAST-MODIFIED:20260202T212908Z
UID:10008411-1772474400-1772478000@www.allaboutombersley.com
SUMMARY:Dance Class
DESCRIPTION:
URL:https://www.allaboutombersley.com/whatson/dance-class-7
LOCATION:Ombersley Memorial Hall\, Ombersley Memorial Hall\, Sandys Road\, Ombersley\, WR9 0DY
CATEGORIES:Public Events
ORGANIZER;CN="Ombersley Memorial Hall":MAILTO:bookings@ombersleymemorialhall.co.uk
END:VEVENT
BEGIN:VEVENT
DTSTART;TZID=Europe/London:20260302T133000
DTEND;TZID=Europe/London:20260302T143000
DTSTAMP:20260419T184947
CREATED:20260104T141338Z
LAST-MODIFIED:20260302T145459Z
UID:10008410-1772458200-1772461800@www.allaboutombersley.com
SUMMARY:Pilates
DESCRIPTION:
URL:https://www.allaboutombersley.com/whatson/pilates-688
LOCATION:Ombersley Memorial Hall\, Ombersley Memorial Hall\, Sandys Road\, Ombersley\, WR9 0DY
CATEGORIES:Public Events
ORGANIZER;CN="Ombersley Memorial Hall":MAILTO:bookings@ombersleymemorialhall.co.uk
END:VEVENT
BEGIN:VEVENT
DTSTART;TZID=Europe/London:20260302T113000
DTEND;TZID=Europe/London:20260302T123000
DTSTAMP:20260419T184947
CREATED:20260104T141338Z
LAST-MODIFIED:20260302T145459Z
UID:10008409-1772451000-1772454600@www.allaboutombersley.com
SUMMARY:Over 55s Dance Class
DESCRIPTION:
URL:https://www.allaboutombersley.com/whatson/over-55s-dance-class-181
LOCATION:Ombersley Memorial Hall\, Ombersley Memorial Hall\, Sandys Road\, Ombersley\, WR9 0DY
CATEGORIES:Public Events
ORGANIZER;CN="Ombersley Memorial Hall":MAILTO:bookings@ombersleymemorialhall.co.uk
END:VEVENT
BEGIN:VEVENT
DTSTART;TZID=Europe/London:20260302T093000
DTEND;TZID=Europe/London:20260302T103000
DTSTAMP:20260419T184947
CREATED:20260104T141337Z
LAST-MODIFIED:20260302T145459Z
UID:10008408-1772443800-1772447400@www.allaboutombersley.com
SUMMARY:Zumba
DESCRIPTION:
URL:https://www.allaboutombersley.com/whatson/zumba-235
LOCATION:Ombersley Memorial Hall\, Ombersley Memorial Hall\, Sandys Road\, Ombersley\, WR9 0DY
CATEGORIES:Public Events
ORGANIZER;CN="Ombersley Memorial Hall":MAILTO:bookings@ombersleymemorialhall.co.uk
END:VEVENT
BEGIN:VEVENT
DTSTART;TZID=Europe/London:20260228T090000
DTEND;TZID=Europe/London:20260228T153000
DTSTAMP:20260419T184947
CREATED:20260201T211205Z
LAST-MODIFIED:20260228T142503Z
UID:10008601-1772269200-1772292600@www.allaboutombersley.com
SUMMARY:Garden Furniture Sale
DESCRIPTION:
URL:https://www.allaboutombersley.com/whatson/garden-furniture-sale
LOCATION:Ombersley Memorial Hall\, Ombersley Memorial Hall\, Sandys Road\, Ombersley\, WR9 0DY
CATEGORIES:Public Events
ORGANIZER;CN="Ombersley Memorial Hall":MAILTO:bookings@ombersleymemorialhall.co.uk
END:VEVENT
BEGIN:VEVENT
DTSTART;TZID=Europe/London:20260226T200000
DTEND;TZID=Europe/London:20260226T210000
DTSTAMP:20260419T184947
CREATED:20260219T122542Z
LAST-MODIFIED:20260226T135553Z
UID:10008673-1772136000-1772139600@www.allaboutombersley.com
SUMMARY:Boot camp
DESCRIPTION:
URL:https://www.allaboutombersley.com/whatson/boot-camp-251
LOCATION:Ombersley Memorial Hall\, Ombersley Memorial Hall\, Sandys Road\, Ombersley\, WR9 0DY
CATEGORIES:Public Events
ORGANIZER;CN="Ombersley Memorial Hall":MAILTO:bookings@ombersleymemorialhall.co.uk
END:VEVENT
BEGIN:VEVENT
DTSTART;TZID=Europe/London:20260226T140000
DTEND;TZID=Europe/London:20260226T160000
DTSTAMP:20260419T184947
CREATED:20251128T212732Z
LAST-MODIFIED:20260223T132518Z
UID:10008241-1772114400-1772121600@www.allaboutombersley.com
SUMMARY:Tea shop
DESCRIPTION:
URL:https://www.allaboutombersley.com/whatson/tea-shop-57
LOCATION:Ombersley Memorial Hall\, Ombersley Memorial Hall\, Sandys Road\, Ombersley\, WR9 0DY
CATEGORIES:Own Hall Events
ORGANIZER;CN="Ombersley Memorial Hall":MAILTO:bookings@ombersleymemorialhall.co.uk
END:VEVENT
BEGIN:VEVENT
DTSTART;TZID=Europe/London:20260226T090000
DTEND;TZID=Europe/London:20260226T130000
DTSTAMP:20260419T184947
CREATED:20260104T141321Z
LAST-MODIFIED:20260226T135553Z
UID:10008407-1772096400-1772110800@www.allaboutombersley.com
SUMMARY:Pilates
DESCRIPTION:
URL:https://www.allaboutombersley.com/whatson/pilates-687
LOCATION:Ombersley Memorial Hall\, Ombersley Memorial Hall\, Sandys Road\, Ombersley\, WR9 0DY
CATEGORIES:Public Events
ORGANIZER;CN="Ombersley Memorial Hall":MAILTO:bookings@ombersleymemorialhall.co.uk
END:VEVENT
BEGIN:VEVENT
DTSTART;TZID=Europe/London:20260225T180000
DTEND;TZID=Europe/London:20260225T200000
DTSTAMP:20260419T184947
CREATED:20251218T111150Z
LAST-MODIFIED:20260103T141132Z
UID:10008300-1772042400-1772049600@www.allaboutombersley.com
SUMMARY:Smokey Dough Pizza Van in car park
DESCRIPTION:
URL:https://www.allaboutombersley.com/whatson/smokey-dough-pizza-van-in-car-park-8
LOCATION:Ombersley Memorial Hall\, Ombersley Memorial Hall\, Sandys Road\, Ombersley\, WR9 0DY
CATEGORIES:Public Events
ORGANIZER;CN="Ombersley Memorial Hall":MAILTO:bookings@ombersleymemorialhall.co.uk
END:VEVENT
BEGIN:VEVENT
DTSTART;TZID=Europe/London:20260225T170000
DTEND;TZID=Europe/London:20260225T200000
DTSTAMP:20260419T184947
CREATED:20251127T212734Z
LAST-MODIFIED:20260225T135502Z
UID:10008239-1772038800-1772049600@www.allaboutombersley.com
SUMMARY:Smokey Dough Pizza in car park
DESCRIPTION:
URL:https://www.allaboutombersley.com/whatson/smokey-dough-pizza-in-car-park-79
LOCATION:Ombersley Memorial Hall\, Ombersley Memorial Hall\, Sandys Road\, Ombersley\, WR9 0DY
CATEGORIES:Public Events
ORGANIZER;CN="Ombersley Memorial Hall":MAILTO:bookings@ombersleymemorialhall.co.uk
END:VEVENT
BEGIN:VEVENT
DTSTART;TZID=Europe/London:20260225T100000
DTEND;TZID=Europe/London:20260225T120000
DTSTAMP:20260419T184947
CREATED:20251127T212734Z
LAST-MODIFIED:20260225T135502Z
UID:10008238-1772013600-1772020800@www.allaboutombersley.com
SUMMARY:JAG
DESCRIPTION:
URL:https://www.allaboutombersley.com/whatson/jag-8
LOCATION:Ombersley Memorial Hall\, Ombersley Memorial Hall\, Sandys Road\, Ombersley\, WR9 0DY
CATEGORIES:Public Events
ORGANIZER;CN="Ombersley Memorial Hall":MAILTO:bookings@ombersleymemorialhall.co.uk
END:VEVENT
BEGIN:VEVENT
DTSTART;TZID=Europe/London:20260225T070000
DTEND;TZID=Europe/London:20260225T200000
DTSTAMP:20260419T184947
CREATED:20260106T144251Z
LAST-MODIFIED:20260202T212845Z
UID:10008461-1772002800-1772049600@www.allaboutombersley.com
SUMMARY:Dance Class
DESCRIPTION:
URL:https://www.allaboutombersley.com/whatson/dance-class-17
LOCATION:Ombersley Memorial Hall\, Ombersley Memorial Hall\, Sandys Road\, Ombersley\, WR9 0DY
CATEGORIES:Public Events
ORGANIZER;CN="Ombersley Memorial Hall":MAILTO:bookings@ombersleymemorialhall.co.uk
END:VEVENT
BEGIN:VEVENT
DTSTART;TZID=Europe/London:20260224T190000
DTEND;TZID=Europe/London:20260224T220000
DTSTAMP:20260419T184947
CREATED:20260104T141320Z
LAST-MODIFIED:20260224T134004Z
UID:10008406-1771959600-1771970400@www.allaboutombersley.com
SUMMARY:Voices Unlimited
DESCRIPTION:
URL:https://www.allaboutombersley.com/whatson/voices-unlimited-206
LOCATION:Ombersley Memorial Hall\, Ombersley Memorial Hall\, Sandys Road\, Ombersley\, WR9 0DY
CATEGORIES:Public Events
ORGANIZER;CN="Ombersley Memorial Hall":MAILTO:bookings@ombersleymemorialhall.co.uk
END:VEVENT
BEGIN:VEVENT
DTSTART;TZID=Europe/London:20260224T090000
DTEND;TZID=Europe/London:20260224T120000
DTSTAMP:20260419T184947
CREATED:20260104T141319Z
LAST-MODIFIED:20260224T134004Z
UID:10008405-1771923600-1771934400@www.allaboutombersley.com
SUMMARY:Pilates
DESCRIPTION:
URL:https://www.allaboutombersley.com/whatson/pilates-686
LOCATION:Ombersley Memorial Hall\, Ombersley Memorial Hall\, Sandys Road\, Ombersley\, WR9 0DY
CATEGORIES:Public Events
ORGANIZER;CN="Ombersley Memorial Hall":MAILTO:bookings@ombersleymemorialhall.co.uk
END:VEVENT
BEGIN:VEVENT
DTSTART;TZID=Europe/London:20260223T200000
DTEND;TZID=Europe/London:20260223T210000
DTSTAMP:20260419T184947
CREATED:20251125T211244Z
LAST-MODIFIED:20260223T132501Z
UID:10008231-1771876800-1771880400@www.allaboutombersley.com
SUMMARY:Boot Camp
DESCRIPTION:
URL:https://www.allaboutombersley.com/whatson/boot-camp-238
LOCATION:Ombersley Memorial Hall\, Ombersley Memorial Hall\, Sandys Road\, Ombersley\, WR9 0DY
CATEGORIES:Public Events
ORGANIZER;CN="Ombersley Memorial Hall":MAILTO:bookings@ombersleymemorialhall.co.uk
END:VEVENT
BEGIN:VEVENT
DTSTART;TZID=Europe/London:20260223T180000
DTEND;TZID=Europe/London:20260223T190000
DTSTAMP:20260419T184947
CREATED:20260104T141306Z
LAST-MODIFIED:20260202T212844Z
UID:10008404-1771869600-1771873200@www.allaboutombersley.com
SUMMARY:Dance Class
DESCRIPTION:
URL:https://www.allaboutombersley.com/whatson/dance-class-6
LOCATION:Ombersley Memorial Hall\, Ombersley Memorial Hall\, Sandys Road\, Ombersley\, WR9 0DY
CATEGORIES:Public Events
ORGANIZER;CN="Ombersley Memorial Hall":MAILTO:bookings@ombersleymemorialhall.co.uk
END:VEVENT
BEGIN:VEVENT
DTSTART;TZID=Europe/London:20260223T133000
DTEND;TZID=Europe/London:20260223T143000
DTSTAMP:20260419T184947
CREATED:20260104T141304Z
LAST-MODIFIED:20260223T132501Z
UID:10008403-1771853400-1771857000@www.allaboutombersley.com
SUMMARY:Pilates
DESCRIPTION:
URL:https://www.allaboutombersley.com/whatson/pilates-685
LOCATION:Ombersley Memorial Hall\, Ombersley Memorial Hall\, Sandys Road\, Ombersley\, WR9 0DY
CATEGORIES:Public Events
ORGANIZER;CN="Ombersley Memorial Hall":MAILTO:bookings@ombersleymemorialhall.co.uk
END:VEVENT
BEGIN:VEVENT
DTSTART;TZID=Europe/London:20260223T113000
DTEND;TZID=Europe/London:20260223T123000
DTSTAMP:20260419T184947
CREATED:20260104T141303Z
LAST-MODIFIED:20260223T132501Z
UID:10008402-1771846200-1771849800@www.allaboutombersley.com
SUMMARY:Over 55s Dance Class
DESCRIPTION:
URL:https://www.allaboutombersley.com/whatson/over-55s-dance-class-180
LOCATION:Ombersley Memorial Hall\, Ombersley Memorial Hall\, Sandys Road\, Ombersley\, WR9 0DY
CATEGORIES:Public Events
ORGANIZER;CN="Ombersley Memorial Hall":MAILTO:bookings@ombersleymemorialhall.co.uk
END:VEVENT
END:VCALENDAR